Workbook
Name _: #N/A
Name __: #REF!
Name __: #REF!
Name _____0: #REF!
Name _____0: #REF!
Name __0Crite: #REF!
Name __0Crite: #REF!
Name __0Criteria: #REF!
Name __0Criteria: #REF!
Name __A183154: #REF!
Name __aab42: #REF!
Name __aab42: #REF!
Name __DemandLoad: TRUE
Name __eee1: [0]!BlankMacro1
Name __GHH1: #REF!
Name __GHH1: #REF!
Name __GHH2: #REF!
Name __GHH2: #REF!
Name __HSH1: #REF!
Name __HSH1: #REF!
Name __HSH2: #REF!
Name __HSH2: #REF!
Name __JEA1: #REF!
Name __JEA1: #REF!
Name __JEA2: #REF!
Name __JEA2: #REF!
Name __lll1: [0]!BlankMacro1
Name __MaL1: #REF!
Name __MaL1: #REF!
Name __MaL2: #REF!
Name __MaL2: #REF!
Name __NMB96: #REF!
Name __NP1: #REF!
Name __NP1: #REF!
Name __NP2: #REF!
Name __NP2: #REF!
Name __NSH1: #REF!
Name __NSH1: #REF!
Name __NSH2: #REF!
Name __NSH2: #REF!
Name __pa1: #REF!
Name __pa1: #REF!
Name __pa2: #REF!
Name __pa2: #REF!
Name __pl1: #REF!
Name __pl1: #REF!
Name __PL2: #REF!
Name __PL2: #REF!
Name __PL3: #REF!
Name __PL3: #REF!
Name __SBB1: #REF!
Name __SBB1: #REF!
Name __SBB2: #REF!
Name __SBB2: #REF!
Name __SBB3: #REF!
Name __SBB3: #REF!
Name __SBB4: #REF!
Name __SBB4: #REF!
Name __SBB5: #REF!
Name __SBB5: #REF!

Sheet 갑지
A4: 설 계 내 역 서
C6: ○ 공사명 : 2019년 마포구 주차 구획선 정비 공사
C8: 구 분 | G8: 금 액 | N8: 비 고
C9: 총 공 사 비 | G9: =총괄내역서!L21 -> 27953487 | J9: =" 금"&NUMBERSTRING(G9,1)&"원" -> 금이천칠백구십오만삼천사백팔십칠원
C10: 도 급 비 | D10: 공 급 가 액 | G10: =총괄내역서!L17 -> 16779898 | J10: =" 금"&NUMBERSTRING(G10,1)&"원" -> 금일천육백칠십칠만구천팔백구십팔원
D11: 부 가 가 치 세 | G11: =총괄내역서!L18 -> 1677989 | J11: =" 금"&NUMBERSTRING(G11,1)&"원" -> 금일백육십칠만칠천구백팔십구원
D12: 계 | G12: =G10+G11 -> 18457887 | J12: =" 금"&NUMBERSTRING(G12,1)&"원" -> 금일천팔백사십오만칠천팔백팔십칠원
C13: 관급비 | G13: =총괄내역서!L20 -> 9495600 | J13: =" 금"&NUMBERSTRING(G13,1)&"원" -> 금구백사십구만오천육백원
C14: 구획당 단가(1면당 7.4m기준) | G14: 19939 | J14: 금일만구천구백삼십구원
B16: ※ 공사개요 | K16: 현장감독관경유
C17: -주차구획선 재도장 : 9,264.8m | K17: 소속
K18: 직급
K19: 성명 | M19: (인)

Sheet 원가계산서
A1: 공 사 원 가 계 산 서
A2: =갑지!C6 -> ○ 공사명 : 2019년 마포구 주차 구획선 정비 공사
A3: 구 분 | D3: 금 액 | E3: 산 식 | F3: 구성비(%) | G3: 비고
A4: 순 공 사 원 가 | B4: 재료비 | C4: 직접재료비 | D4: =총괄내역서!F6 -> 3413309 | F4: =D4/$D$26 -> 0.18492415
C5: 작업설.부산물(△) | D5: 0 | F5: =D5/$D$26 -> 0
C6: 소계 | D6: =SUM(D4:D5) -> 3413309 | F6: =D6/$D$26 -> 0.18492415
B7: 노무비 | C7: 직접노무비 | D7: =총괄내역서!H6 -> 7334983 | E7: 노무량 × 단위당 가격 | F7: =D7/$D$26 -> 0.39739018
C8: 간접노무비 | D8: =총괄내역서!L7 -> 931542 | E8: =총괄내역서!E7 -> 직접노무비*12.7% | F8: =D8/$D$26 -> 0.050468507
C9: 소계 | D9: =SUM(D7:D8) -> 8266525 | F9: =D9/$D$26 -> 0.44785869
B10: 경 비 | C10: 기계경비 | D10: =총괄내역서!J6 -> 871483 | F10: =D10/$D$26 -> 0.047214668
C11: 산재보험료 | D11: =총괄내역서!L8 -> 309994 | E11: =총괄내역서!E8 -> 노무비*3.75% | F11: =D11/$D$26 -> 0.016794663
C12: 고용보험료 | D12: =총괄내역서!L9 -> 71918 | E12: =총괄내역서!E9 -> 노무비*0.87% | F12: =D12/$D$26 -> 0.003896329
C13: 건강보험료 | D13: =총괄내역서!L10 -> 236919 | E13: =총괄내역서!E10 -> 직노의 3.23% | F13: =D13/$D$26 -> 0.012835651
C14: 연금보험료 | D14: =총괄내역서!L11 -> 330074 | E14: =총괄내역서!E11 -> 직노의 4.5% | F14: =D14/$D$26 -> 0.017882545
C15: 노인장기 요양보험료 | D15: =총괄내역서!L12 -> 20161 | E15: =총괄내역서!E12 -> 건강보험료의 8.51% | F15: =D15/$D$26 -> 0.0010922702
C16: 퇴직공재부금비 | D16: 0 | F16: 0
C17: 산업안전보건관리비 | D17: 0 | F17: =D17/$D$26 -> 0
C18: 기타경비 | D18: =총괄내역서!L13 -> 1027825 | E18: =총괄내역서!E13 -> (재료비+노무비)*8.8% | F18: =D18/$D$26 -> 0.055684868
C19: 환경보전비 | F19: =D19/$D$26 -> 0
C20: 소계 | D20: =SUM(D10:D19) -> 2868374 | F20: =D20/$D$26 -> 0.15540099
A21: 일반관리비 | D21: =총괄내역서!L15 -> 800151 | E21: =총괄내역서!E15 -> (재료비+노무비+경비)*5.5% | F21: =D21/$D$26 -> 0.043350087
A22: 이 윤 | D22: =총괄내역서!L16 -> 1431539.6 | E22: =총괄내역서!E16 -> (노무비+경비+일반관리비)*12%이하 | F22: =D22/$D$26 -> 0.07755707
A23: 공사손해보험료 | D23: 0
A24: 공급가액 | D24: =총괄내역서!L17 -> 16779898 | F24: =F4+F5+F7+F8+F10+F11+F12+F13+F14+F18+F19+F21+F22+F17 -> 0.90799871
A25: 부가가치세 | D25: =INT(D24*0.1) -> 1677989 | E25: 공급가액 * 10% | F25: =D25/$D$26 -> 0.090909052
A26: 도 급 비 | D26: =D24+D25 -> 18457887 | F26: =D26/$D$26 -> 1
A27: 총공사비 | D27: =ROUNDDOWN(SUM(D26:D26),-1) -> 18457880

Sheet 총괄내역서
A1: 총 괄 내 역 서
A2: =갑지!C6 -> ○ 공사명 : 2019년 마포구 주차 구획선 정비 공사
A3: 공 종 | B3: 규 격 | C3: 단위 | D3: 수 량 | E3: 재 료 비 | G3: 노 무 비 | I3: 경 비 | K3: 합 계 | M3: 비 고
E4: 단 가 | F4: 금 액 | G4: 단 가 | H4: 금 액 | I4: 단 가 | J4: 금 액 | K4: 단 가 | L4: 금 액
A5: 도장공 | C5: 식 | D5: 1 | F5: =내역서!F12 -> 3413309 | H5: =내역서!H12 -> 7334983 | J5: =내역서!J12 -> 871483 | L5: =내역서!L12 -> 11619775
A6: 순 공 사 비 | F6: =SUM(F5:F5) -> 3413309 | H6: =SUM(H5:H5) -> 7334983 | J6: =SUM(J5:J5) -> 871483 | L6: =SUM(L5:L5) -> 11619775
A7: 간접노무비 | C7: 식 | D7: 1 | E7: 직접노무비*12.7% | L7: =INT(H6*12.7%) -> 931542
A8: 산재보험료 | C8: 식 | D8: 1 | E8: 노무비*3.75% | L8: =INT((H6+L7)*3.75%) -> 309994
A9: 고용보험료 | C9: 식 | D9: 1 | E9: 노무비*0.87% | L9: =INT((H6+L7)*0.87%) -> 71918
A10: 건강보험료 | C10: 식 | D10: 1 | E10: 직노의 3.23% | L10: =INT(H6*3.23%) -> 236919
A11: 연금보험료 | C11: 식 | D11: 1 | E11: 직노의 4.5% | L11: =INT(H6*4.5%) -> 330074
A12: 노인장기요양 보험료 | C12: 식 | D12: 1 | E12: 건강보험료의 8.51% | L12: =INT(L10*8.51%) -> 20161
A13: 기타경비 | C13: 식 | D13: 1 | E13: (재료비+노무비)*8.8% | L13: =INT((F6+H6+L7)*8.8%) -> 1027825
A14: 순공사원가 | L14: =SUM(L6:L13) -> 14548208
A15: 일반관리비 | C15: 식 | D15: 1 | E15: (재료비+노무비+경비)*5.5% | L15: =INT(L14*5.5%) -> 800151
A16: 이윤 | C16: 식 | D16: 1 | E16: (노무비+경비+일반관리비)*12%이하 | L16: =INT(INT((L14+L15-F6)*0.12))-733/1.1 -> 1431539.6
A17: 공 급 가 액 | L17: =ROUNDDOWN(SUM(L14:L16),0) -> 16779898
A18: 부가세 | C18: 식 | D18: 1 | E18: 공급가액*10% | L18: =ROUNDDOWN(INT(L17*0.1),0) -> 1677989
A19: 도급액 | C19: 식 | D19: 1 | L19: =ROUNDDOWN(SUM(L17:L18),0) -> 18457887
A20: 관급자재비 | C20: 식 | D20: 1 | L20: =내역서!L19 -> 9495600
A21: 총 공 사 비 | C21: 식 | D21: 1 | L21: =L19+L20 -> 27953487
A22: 구획당 단가 | E22: 1구획당 7.4m 기준 | L22: =L21/내역서!C6*7.4 -> 19938.293

Sheet 내역서
A1: 내 역 서
A2: =갑지!C6 -> ○ 공사명 : 2019년 마포구 주차 구획선 정비 공사
A3: 공 종 | B3: 규격 | C3: 수 량 | D3: 단위 | E3: 재 료 비 | G3: 노 무 비 | I3: 경 비 | K3: 합 계 | M3: 비 고
E4: 단 가 | F4: 금 액 | G4: 단 가 | H4: 금 액 | I4: 단 가 | J4: 금 액 | K4: 단 가 | L4: 금 액
A5: 1. 도장공
A6: 주차구획선 재도장 | B6: 15cm | C6: 10374.8 | D6: =일위대가!C5 -> m | E6: =일위대가!F16 -> 329 | F6: =INT(C6*E6) -> 3413309 | G6: =일위대가!H16 -> 707 | H6: =INT($C6*G6) -> 7334983 | I6: =일위대가!J16 -> 84 | J6: =INT($C6*I6) -> 871483 | K6: =E6+G6+I6 -> 1120 | L6: =F6+H6+J6 -> 11619775
F7: =INT(C7*E7) -> 0 | H7: =INT(C7*G7) -> 0 | J7: =INT(C7*I7) -> 0 | K7: =E7+G7+I7 -> 0 | L7: =F7+H7+J7 -> 0
F8: =INT(C8*E8) -> 0 | H8: =INT(C8*G8) -> 0 | J8: =INT(C8*I8) -> 0 | K8: =E8+G8+I8 -> 0 | L8: =F8+H8+J8 -> 0
F9: =INT(C9*E9) -> 0 | H9: =INT(C9*G9) -> 0 | J9: =INT(C9*I9) -> 0 | K9: =E9+G9+I9 -> 0 | L9: =F9+H9+J9 -> 0
A10: 소 계 | F10: =SUM(F6:F9) -> 3413309 | H10: =SUM(H6:H9) -> 7334983 | J10: =SUM(J6:J9) -> 871483 | L10: =F10+H10+J10 -> 11619775
A12: 계 | F12: =F10 -> 3413309 | G12: =G10 -> 0 | H12: =H10 -> 7334983 | I12: =I10 -> 0 | J12: =J10 -> 871483 | K12: =K10 -> 0 | L12: =L10 -> 11619775
A14: 2. 관급자재비
A15: 도로용페인트(융착식) | B15: 백색 | C15: =ROUNDUP(((C6+C7)*0.6116/20),0) -> 318 | D15: 포 | E15: 29700 | F15: =INT(C15*E15) -> 9444600 | K15: =E15+G15+I15 -> 29700 | L15: =F15+H15+J15 -> 9444600
F16: =INT(C16*E16) -> 0 | K16: =E16+G16+I16 -> 0 | L16: =F16+H16+J16 -> 0
A17: 소계 | F17: =F15+F16 -> 9444600 | K17: =E17+G17+I17 -> 0 | L17: =F17+H17+J17 -> 9444600
A18: 조달수수료 | C18: 0.0054 | J18: =ROUNDDOWN(F17*C18,-1) -> 51000 | L18: =F18+H18+J18 -> 51000
A19: 계 | F19: =F17 -> 9444600 | J19: =J18 -> 51000 | L19: =L17+L18 -> 9495600

Sheet 일위대가
A1: 일 위 대 가
A2: =갑지!C6 -> ○ 공사명 : 2019년 마포구 주차 구획선 정비 공사
A3: 공 종 | B3: 규 격 | C3: 수량 | D3: 단위 | E3: 재 료 비 | G3: 노 무 비 | I3: 경 비 | K3: 합 계 | M3: 비 고
E4: 단 가 | F4: 금 액 | G4: 단 가 | H4: 금 액 | I4: 단 가 | J4: 금 액 | K4: 단 가 | L4: 금 액
A5: 제1호표 | B5: 주차구획(융착) 백색,수동 | C5: m | H5: =INT(D5*G5) -> 0
A6: 도로용페인트 | B6: 융착식,백색,KSM6080 | C6: =4.53*0.15 -> 0.6795 | D6: ㎏ | E6: 0 | F6: =TRUNC(C6*E6,0) -> 0 | H6: =TRUNC(C6*G6,0) -> 0 | J6: =TRUNC(C6*I6,0) -> 0 | K6: =E6+G6+I6 -> 0 | L6: =F6+H6+J6 -> 0
A7: GLASS BEADS | B7: KSL 2521, 1호 | C7: =0.42*0.15 -> 0.063 | D7: ㎏ | E7: =자재조사표!N5 -> 1700 | F7: =TRUNC(C7*E7,0) -> 107 | H7: =TRUNC(C7*G7,0) -> 0 | J7: =TRUNC(C7*I7,0) -> 0 | K7: =E7+G7+I7 -> 1700 | L7: =F7+H7+J7 -> 107
A8: 프라이머 | B8: 융착식 접착제 | C8: =0.2*0.15 -> 0.03 | D8: ℓ | E8: =자재조사표!N6 -> 4500 | F8: =TRUNC(C8*E8,0) -> 135 | H8: =TRUNC(C8*G8,0) -> 0 | J8: =TRUNC(C8*I8,0) -> 0 | K8: =E8+G8+I8 -> 4500 | L8: =F8+H8+J8 -> 135
A9: 프로판가스 | B9: 용해용 | C9: =0.2*0.15 -> 0.03 | D9: ㎏ | E9: =자재조사표!N7 -> 894.54545 | F9: =TRUNC(C9*E9,0) -> 26 | H9: =TRUNC(C9*G9,0) -> 0 | J9: =TRUNC(C9*I9,0) -> 0 | K9: =E9+G9+I9 -> 894.54545 | L9: =F9+H9+J9 -> 26
A10: 특별인부 | C10: =TRUNC(2/(500*0.38)*0.15,5) -> 0.00157 | D10: 인 | E10: 0 | F10: =TRUNC(C10*E10,0) -> 0 | G10: =자재조사표!D$16 -> 152019 | H10: =TRUNC(C10*G10,0) -> 238 | J10: =TRUNC(C10*I10,0) -> 0 | K10: =E10+G10+I10 -> 152019 | L10: =F10+H10+J10 -> 238
A11: 보통인부 | C11: =TRUNC(2/(500*0.38)*0.15,5) -> 0.00157 | D11: 인 | E11: 0 | F11: =TRUNC(C11*E11,0) -> 0 | G11: =자재조사표!D$15 -> 125427 | H11: =TRUNC(C11*G11,0) -> 196 | J11: =TRUNC(C11*I11,0) -> 0 | K11: =E11+G11+I11 -> 125427 | L11: =F11+H11+J11 -> 196
A12: 잡재료비 | B12: 주재료비의 | C12: 1 | D12: % | E12: =SUM(F6:F9) -> 268 | F12: =TRUNC(C12/100*E12,0) -> 2 | H12: =TRUNC(C12/100*G12,0) -> 0 | J12: =TRUNC(C12*I12,0) -> 0 | K12: =E12+G12+I12 -> 268 | L12: =F12+H12+J12 -> 2
A13: 공구손료 및 기계경비 | B13: 인력품의 | C13: 10 | D13: % | I13: =SUM(H10:H11) -> 434 | J13: =TRUNC(C13/100*I13,0) -> 43 | K13: =E13+G13+I13 -> 434 | L13: =F13+H13+J13 -> 43
A14: 덤프트럭 | B14: 4.5 ton | C14: =TRUNC(1/(500*0.38)*0.15*8,5) -> 0.00631 | D14: 시간 | E14: =시간당중기사용료!F20 -> 9465.558 | F14: =TRUNC(C14*E14,0) -> 59 | G14: =시간당중기사용료!H20 -> 33064 | H14: =TRUNC(C14*G14,0) -> 208 | I14: =시간당중기사용료!J20 -> 6502.5 | J14: =TRUNC(C14*I14,0) -> 41 | K14: =E14+G14+I14 -> 49032.058 | L14: =F14+H14+J14 -> 308
A15: 할증(지세) | B15: 주택가할증(노무비의15%) | C15: 식 | F15: =INT(D15*E15) -> 0 | G15: =SUM(H10:H11) -> 434 | H15: =INT(G15*0.15) -> 65 | J15: =INT(I15*0.06) -> 0 | K15: =E15+G15+I15 -> 434 | L15: =F15+H15+J15 -> 65
A16: 계 | F16: =SUM(F6:F15) -> 329 | H16: =SUM(H6:H15) -> 707 | J16: =SUM(J6:J15) -> 84 | K16: =E16+G16+I16 -> 0 | L16: =F16+H16+J16 -> 1120
F18: =ROUNDDOWN(D18*E18,0) -> 0
F19: =ROUNDDOWN(D19*E19,0) -> 0
F20: =ROUNDDOWN(D20*E20,0) -> 0
F21: =ROUNDDOWN(D21*E21,0) -> 0
F22: =ROUNDDOWN(D22*E22,0) -> 0
F23: =ROUNDDOWN(D23*E23,0) -> 0
F24: =ROUNDDOWN(D24*E24,0) -> 0
F25: =ROUNDDOWN(D25*E25,0) -> 0
F26: =ROUNDDOWN(D26*E26,0) -> 0
F27: =ROUNDDOWN(D27*E27,0) -> 0
F28: =ROUNDDOWN(D28*E28,0) -> 0
F29: =ROUNDDOWN(D29*E29,0) -> 0
... F83: =ROUNDDOWN(D83*E83,0) -> 0

Sheet 시간당중기사용료
A1: 건 설 기 계 손 료
A2: 구 분 | B2: 규 격 | C2: 수 량 | D2: 단위 | E2: 재 료 비 | G2: 노 무 비 | I2: 경 비 | K2: 합 계 | M2: 비고
E3: 단 가 | F3: 금 액 | G3: 단 가 | H3: 금 액 | I3: 단 가 | J3: 금 액 | K3: 단 가 | L3: 금 액
A4: 덤프트럭[2.5톤]【기계가격: 19,200천원】
A5: 기계손료 | B5: 2.5톤 | C5: 0.2901 | I5: 19200 | J5: =INT(I5*$C5) -> 5569 | K5: =G5+E5+I5 -> 19200 | L5: =H5+F5+J5 -> 5569
A6: 조종원 | C6: 1 | D6: 인 | G6: 26806 | H6: =INT(G6*$C6) -> 26806 | K6: =G6+E6+I6 -> 26806 | L6: =H6+F6+J6 -> 26806 | M6: 화물차운전사
A7: 조 수 | D7: 인
A8: 조 장 | D8: 인
A9: 주연료 | B9: 경유 | C9: 2.9 | D9: L | E9: =E50 -> 1371.82 | F9: =C9*E9 -> 3978.278 | K9: =G9+E9+I9 -> 1371.82 | L9: =H9+F9+J9 -> 3978.278 | M9: 경유
A10: 잡 품 | B10: 주연료비의 % | C10: 38 | D10: % | E10: =F9 -> 3978.278 | F10: =E10*C10% -> 1511.7456 | K10: =G10+E10+I10 -> 3978.278 | L10: =H10+F10+J10 -> 1511.7456
A11: 계 | F11: =SUM(F5:F10) -> 5490.0236 | H11: =SUM(H5:H10) -> 26806 | J11: =SUM(J5:J10) -> 5569 | L11: =H11+F11+J11 -> 37865.024
A13: 덤프트럭[4.5톤]【기계가격: 22,415천원】
A14: 기계손료 | B14: 4.5톤 | C14: 0.2967 | I14: 22600 | J14: =C14*I14 -> 6705.42 | K14: =G14+E14+I14 -> 22600 | L14: =H14+F14+J14 -> 6705.42
A15: 조종원 | C15: 1 | D15: 인 | G15: 33064 | H15: =INT(G15*$C15) -> 33064 | K15: =G15+E15+I15 -> 33064 | L15: =H15+F15+J15 -> 33064 | M15: 화물차운전사
A16: 조 수 | D16: 인
A17: 조 장 | D17: 인
A18: 주연료 | B18: 경유 | C18: 5 | D18: L | E18: =E50 -> 1371.82 | F18: =C18*E18 -> 6859.1 | K18: =G18+E18+I18 -> 1371.82 | L18: =H18+F18+J18 -> 6859.1 | M18: 경유
A19: 잡 품 | B19: 주연료비의 % | C19: 38 | D19: % | E19: =F18 -> 6859.1 | F19: =E19*C19% -> 2606.458 | K19: =G19+E19+I19 -> 6859.1 | L19: =H19+F19+J19 -> 2606.458
A20: 계 | F20: =SUM(F14:F19) -> 9465.558 | H20: =SUM(H14:H19) -> 33064 | J20: 6502.5 | L20: =F20+H20+J20 -> 49032.058
A38: ▣ 중 기 산 출 기 준
A40: 1.인건비 | D40: *2018년 상반기 노임단가적용(대한건설협회)
A41: 직 종 명 | B41: 단 가 | C41: 산 정 기 준 | E41: 금 액 | G41: 비 고
A42: 건설기계운전사 | B42: 162022 | C42: 25/20×1/8×16/12 | E42: =TRUNC(B42*25/20*1/8*16/12) -> 33754
A43: 건설기계조장 | B43: 138494 | C43: 25/20×1/8×16/12 | E43: =TRUNC(B43*25/20*1/8*16/12) -> 28852
A44: 화물차운전사 | B44: 138151 | C44: 25/20×1/8×16/12 | E44: =TRUNC(B44*25/20*1/8*16/12) -> 28781
A45: 일반기계운전사 | B45: 118763 | C45: 25/20×1/8×16/12 | E45: =TRUNC(B45*25/20*1/8*16/12) -> 24742
A47: 2.재료비
A48: 품 명 | B48: 단 위 | C48: 산정기준 | E48: 단 가 | G48: 비 고
A49: 휘발유 | B49: ℓ | C49: 40 이하 | E49: 1572.13 | G49: 한국석유공사 2018년5월12일 기준
A50: 경유 | B50: ℓ | C50: 보통 | E50: 1371.82 | G50: 한국석유공사 2018년5월12일 기준

Sheet 자재조사표
A1: 자 재 조 사 표
A2: =갑지!C6 -> ○ 공사명 : 2019년 마포구 주차 구획선 정비 공사
A3: 품 명 | B3: 규 격 | C3: 단위 | D3: 가 격 정 보 | F3: 물 가 자 료 | H3: 물 가 정 보 | J3: 거 래 가 격 | L3: 유 통 물 가 | N3: 적용단가 | O3: 비 고
D4: 단 가 | E4: Page | F4: 단 가 | G4: Page | H4: 단 가 | I4: Page | J4: 단 가 | K4: Page | L4: 단 가 | M4: Page
A5: GLASS BEADS | B5: KSL 2521, 1호 | C5: kg | D5: 0 | F5: 1700 | G5: 206 | H5: 5000 | I5: 1권332 | J5: 1700 | K5: 217 | L5: 0 | N5: 1700 | O5: 2019년1월
A6: 프라이머 | B6: 융착식 접착제 | C6: ℓ | D6: 0 | F6: 4500 | G6: 639 | H6: 4500 | I6: 1권332 | J6: 4550 | K6: 218 | N6: 4500 | O6: 2019년1월
A7: 프로판가스 | B7: 일반용 | C7: KG | F7: =984/1.1 -> 894.54545 | G7: 하32 | H7: 1753 | I7: 2권888 | J7: 1699 | K7: 1453 | L7: 1754 | M7: 1237 | N7: =984/1.1 -> 894.54545 | O7: 2019년1월
A12: 개별직종 노임단가(2019년 상반기)
A13: 번호 | B13: 직종 | C13: 번호 | D13: 노임단가(원)
A14: 1001 | B14: 작업반장 | C14: 1074 | D14: 153186
A15: 1002 | B15: 보통인부 | C15: 1075 | D15: 125427
A16: 1003 | B16: 특별인부 | C16: 1076 | D16: 152019
A17: 1029 | B17: 도장공 | C17: 3008 | D17: 184508
