Workbook
Name 인터넷: 농수산물시장!$H$2
Name 인터넷: 농수산물시장!$H$2

Sheet 집계표
A1: 가격산출 집계표
A3: 사업장명 | B3: 단위 | C3: 수량 | D3: 재 료 비 | F3: 비 고
D4: 단가 | E4: 금액
A5: 마포종합청사 | B5: 건 | C5: 24 | D5: =종합청사!G27 -> 3723930 | E5: =D5 -> 3723930
A6: 우리마포복지관 | B6: 건 | C6: 40 | D6: =우리마포복지관!G45 -> 3663000 | E6: =D6 -> 3663000
A7: 마포구민체육센타 | B7: 건 | C7: 8 | D7: =구민체육센타!H12 -> 1332150 | E7: =D7 -> 1332150
A8: 아현문화건강센터 | B8: 건 | C8: 50 | D8: =아현문화건강센타!G56 -> 2870000 | E8: =D8 -> 2870000
A9: 창업복지관 | B9: 건 | C9: 8 | D9: =창업복지관!I14 -> 1229000 | E9: =D9 -> 1229000
A10: 농수산물시장 | B10: 건 | C10: 25 | D10: =농수산물시장!G28 -> 0 | E10: =D10 -> 0
A11: 주민편익시설 | B11: 건 | C11: 15 | D11: =주민편익시설!E17 -> 1495430 | E11: =D11 -> 1495430
A12: 시설주차장 | B12: 건 | C12: 14 | D12: =시설주차장!G19 -> 1902380 | E12: =D12 -> 1902380
A13: [합 계] | C13: 184 | E13: =SUM(E5:E12) -> 16215890

Sheet 종합청사
A1: 종합청사 기계설비 자재
A2: 번 호 | B2: 품 명 | C2: 규 격 | D2: 단 위 | E2: 수 량 | F2: 단 가 | G2: 금 액 | H2: 비 고
A3: 1 | B3: 온수순환펌프 | C3: PH-250M | D3: 대 | E3: 3 | F3: 122120 | G3: =F3*E3 -> 366360
A4: 2 | B4: 온수순환펌프 | C4: PH-080M | D4: 대 | E4: 3 | F4: 75080 | G4: =F4*E4 -> 225240 | H4: 마포창업복지관 단가
A5: 3 | B5: 스페너 세트(세신버팔로) | C5: 14P(10∼32mm) | D5: set | E5: 2 | F5: 85000 | G5: =F5*E5 -> 170000
A6: 4 | B6: 복스 세트(세신버팔로) | C6: 16P(10∼27) | D6: set | E6: 2 | F6: 95900 | G6: =F6*E6 -> 191800
A7: 5 | B7: 힐티 충전햄머드릴 | C7: TE4-A22-22V (5.2Ah×2개) | D7: 대 | E7: 1 | F7: 690000 | G7: =F7*E7 -> 690000
A8: 6 | B8: 원홀수전(계림) | C8: KSE-610 | D8: 대 | E8: 5 | F8: 74820 | G8: =F8*E8 -> 374100
A9: 7 | B9: 샤워기 수전(계림) | C9: KBE-600C | D9: 대 | E9: 3 | F9: 73790 | G9: =F9*E9 -> 221370
A10: 8 | B10: 세면기수전(계림) | C10: KLA-120C | D10: 대 | E10: 5 | F10: 57000 | G10: =F10*E10 -> 285000
A11: 9 | B11: 대변기 세척밸브 | C11: 절수형(K-200) | D11: EA | E11: 10 | F11: 32900 | G11: =F11*E11 -> 329000
A12: 10 | B12: le충전식 랜턴 | C12: T103(1200루멘) | D12: 대 | E12: 3 | F12: 106000 | G12: =F12*E12 -> 318000
A13: 11 | B13: 매직테이프(적) | C13: 0.2mm×4"×15m | D13: EA | E13: 50 | F13: 869 | G13: =F13*E13 -> 43450 | H13: 아현문화건강센타 단가
A14: 12 | B14: 매직테이프(황) | C14: 0.2mm×4"×15m | D14: EA | E14: 50 | F14: 869 | G14: =F14*E14 -> 43450 | H14: 아현문화건강센타 단가
A15: 13 | B15: 매직테이프(홍) | C15: 0.2mm×4"×15m | D15: EA | E15: 50 | F15: 869 | G15: =F15*E15 -> 43450 | H15: 아현문화건강센타 단가
A16: 14 | B16: 줄자(코메론) | C16: 7.5M×25mm | D16: EA | E16: 3 | F16: 13100 | G16: =F16*E16 -> 39300
A17: 15 | B17: 에어컨 동파이프 | C17: 6.35×9mm×8m | D17: 줄 | E17: 1 | F17: 24600 | G17: =F17*E17 -> 24600
A18: 16 | B18: 신주부식 | C18: 15mm×8mm | D18: EA | E18: 10 | F18: 350 | G18: =F18*E18 -> 3500
A19: 17 | B19: 신주닛뿔 | C19: 15mm | D19: EA | E19: 10 | F19: 530 | G19: =F19*E19 -> 5300
A20: 18 | B20: 신주플러그 | C20: 15mm | D20: EA | E20: 10 | F20: 680 | G20: =F20*E20 -> 6800
A21: 19 | B21: 신주플러그 | C21: 20mm | D21: EA | E21: 10 | F21: 1200 | G21: =F21*E21 -> 12000
A22: 20 | B22: 셋트앵커 | C22: 1/2"×125 | D22: EA | E22: 30 | F22: 540 | G22: =F22*E22 -> 16200
A23: 21 | B23: 셋트앵커 | C23: 3/8"×75 | D23: EA | E23: 50 | F23: 200 | G23: =F23*E23 -> 10000
A24: 22 | B24: 메니폴드게이지 | C24: R-410A용 | D24: EA | E24: 1 | F24: 128700 | G24: =F24*E24 -> 128700
A25: 23 | B25: 냉매가스 | C25: R-410A(10KG) | D25: 통 | E25: 1 | F25: 130900 | G25: =F25*E25 -> 130900
A26: 24 | B26: 용접장갑 | C26: NKTM | D26: 켤레 | E26: 2 | F26: 22705 | G26: =F26*E26 -> 45410
A27: 합 계 | G27: =SUM(G3:G26) -> 3723930

Sheet 우리마포복지관
A1: 가격산출기초조사서(우리마포복지관)
A2: 순번 | B2: 품 명 | C2: 규 격 | D2: 단위 | E2: 수량 | F2: 단가 | G2: 금액 | H2: 제조사 | I2: 비고
A3: 1 | B3: 무소음카트 | C3: 초록사각대차 손잡이o, 중형 인라인바퀴 | D3: EA | E3: 2 | F3: 47000 | G3: =E3*F3 -> 94000 | H3: 유신카트몰 | I3: 인터넷
A4: 2 | B4: 충전용 청소기 | C4: d102 차이슨청소기 | D4: EA | E4: 1 | F4: 69430 | G4: =E4*F4 -> 69430 | H4: 차이슨 | I4: 인터넷
A5: 3 | B5: 변기 편심 | C5: 100mm | D5: EA | E5: 3 | F5: 4500 | G5: =E5*F5 -> 13500 | H5: 국내 | I5: 인터넷
A6: 4 | B6: 드라이버 | C6: 전공양용 드라이버220W 150mm | D6: EA | E6: 3 | F6: 8100 | G6: =E6*F6 -> 24300 | H6: 베셀 | I6: 인터넷
A7: 5 | B7: 실리콘 | C7: 신에츠 OS회색 270ml | D7: EA | E7: 20 | F7: 1600 | G7: =E7*F7 -> 32000 | H7: 흥국 | I7: 인터넷
A8: 6 | B8: 실리콘 | C8: 신에츠 OS백색 270ml | D8: EA | E8: 20 | F8: 1600 | G8: =E8*F8 -> 32000 | H8: 흥국 | I8: 인터넷
A9: 7 | B9: 실리콘 | C9: 신에츠 OS투명 270ml | D9: EA | E9: 20 | F9: 1850 | G9: =E9*F9 -> 37000 | H9: 흥국 | I9: 인터넷
A10: 8 | B10: 작업화 | D10: EA | E10: 3 | F10: 134000 | G10: =E10*F10 -> 402000 | H10: K2 | I10: 인터넷
A11: 9 | B11: 랜턴 | C11: 울트라서치2 | D11: EA | E11: 3 | F11: 38900 | G11: =E11*F11 -> 116700 | H11: 리빌드 | I11: 인터넷
A12: 10 | B12: 데크용 나사 | C12: 6mm*60mm*100 | D12: EA | E12: 1 | F12: 33640 | G12: =E12*F12 -> 33640 | H12: Spax | I12: 인터넷
A13: 11 | B13: 나사 세트 | C13: SM-WS150P | D13: BOX | E13: 1 | F13: 9807 | G13: =E13*F13 -> 9807 | H13: Smato | I13: 인터넷
A14: 12 | B14: 가스 기록지 | C14: HW-0002 1000mmAq저압용 | D14: 권 | E14: 1 | F14: 29700 | G14: =E14*F14 -> 29700 | H14: 한울계기 | I14: 인터넷
A15: 13 | B15: 가스 기록지 펜 | C15: 잛은펜 10mm | D15: EA | E15: 1 | F15: 13000 | G15: =E15*F15 -> 13000 | H15: 한울계기 | I15: 인터넷
A16: 14 | B16: 가스 기록지 펜 | C16: 긴펜 15mm | D16: EA | E16: 1 | F16: 13000 | G16: =E16*F16 -> 13000 | H16: 한울계기 | I16: 인터넷
A17: 15 | B17: 우산 빗물 털이 | C17: 940W*800L*300H (mm) | D17: EA | E17: 1 | F17: 770000 | G17: =E17*F17 -> 770000 | H17: 국내 | I17: 인터넷
A18: 16 | B18: 롤 비닐 | C18: 0.05mm*120cm*91m | D18: 롤 | E18: 1 | F18: 35000 | G18: =E18*F18 -> 35000 | H18: 그린화학 | I18: 인터넷
A19: 17 | B19: 롤 비닐 | C19: 0.05mm*120cm*70m | D19: 타 | E19: 1 | F19: 27000 | G19: =E19*F19 -> 27000 | H19: 그린화학 | I19: 인터넷
A20: 18 | B20: 세라픽스7000 | C20: 4KG | D20: EA | E20: 2 | F20: 8300 | G20: =E20*F20 -> 16600 | H20: 쌍곰 | I20: 인터넷
A21: 19 | B21: 호스 | C21: 편사호스 19mm*45m | D21: 롤 | E21: 1 | F21: 27000 | G21: =E21*F21 -> 27000 | H21: 홍일산업 | I21: 인터넷
A22: 20 | B22: 볼트 리무버 | C22: 5P 볼트리무버 | D22: EA | E22: 1 | F22: 7200 | G22: =E22*F22 -> 7200 | H22: 툴앤툴 | I22: 인터넷
A23: 21 | B23: 안전 띠 | C23: 100mm X 250yd | D23: EA | E23: 5 | F23: =5790*1.1 -> 6369 | G23: =E23*F23 -> 31845 | H23: 성진산업사 | I23: 인터넷
A24: 22 | B24: 안전 펜스 | C24: H1000*L2500 | D24: EA | E24: 4 | F24: 37700 | G24: =E24*F24 -> 150800 | H24: 안전한가 | I24: 인터넷
A25: 23 | B25: 안전 펜스 베이스 | C25: 보급형고무베이스 | D25: EA | E25: 6 | F25: 9900 | G25: =E25*F25 -> 59400 | H25: 안전한가 | I25: 인터넷
A26: 24 | B26: 공구통 | C26: STB-500 | D26: EA | E26: 2 | F26: 86200 | G26: =E26*F26 -> 172400 | H26: 신영측기 | I26: 인터넷
A27: 25 | B27: 철자 | C27: 1m | D27: EA | E27: 4 | F27: 15400 | G27: =E27*F27 -> 61600 | H27: SB | I27: 인터넷
A28: 26 | B28: 별렌치 세트 | C28: 10807, 7PCS | D28: EA | E28: 1 | F28: 10800 | G28: =E28*F28 -> 10800 | H28: 에클랜드 | I28: 인터넷
A29: 27 | B29: 사다리 | C29: 7단 사용높이:1945/보관높이:2065 | D29: EA | E29: 3 | F29: 57400 | G29: =E29*F29 -> 172200 | H29: 영도사다리 | I29: 인터넷
A30: 28 | B30: 순간접착제 | C30: 401 50g | D30: EA | E30: 2 | F30: 3950 | G30: =E30*F30 -> 7900 | H30: 록타이트 | I30: 인터넷
A31: 29 | B31: 칼블럭 | C31: 6*30 백색 | D31: 봉 | E31: 1 | F31: 1650 | G31: =E31*F31 -> 1650 | H31: 삼영 | I31: 인터넷
A32: 30 | B32: 칼블럭 | C32: 6*30 적색 | D32: 봉 | E32: 1 | F32: 1400 | G32: =E32*F32 -> 1400 | H32: 삼영 | I32: 인터넷
A33: 31 | B33: 케이블타이 | C33: 100mm 흑색 | D33: 봉 | E33: 1 | F33: 3900 | G33: =E33*F33 -> 3900 | H33: 동아 베스텍 | I33: 인터넷
A34: 32 | B34: 케이블타이 | C34: 200mm 흑색 | D34: 봉 | E34: 1 | F34: 17100 | G34: =E34*F34 -> 17100 | H34: 동아 베스텍 | I34: 인터넷
A35: 33 | B35: 케이블타이 | C35: 300mm 흑색 | D35: 봉 | E35: 1 | F35: 18950 | G35: =E35*F35 -> 18950 | H35: 동아 베스텍 | I35: 인터넷
... A42: 40 | B42: 도어 스토퍼 | C42: 원터치 | D42: EA | E42: 10 | F42: 7600 | G42: =E42*F42 -> 76000 | H42: 우리아이 | I42: 인터넷
A43: 소 계 | G43: =ROUND(SUM(G3:G42),-3) -> 3663000 | H43: (백단위절사)
A44: 부가 세
A45: 합 계 | G45: =G43+G44 -> 3663000

Sheet 구민체육센타
D1: 기 초 산 출 조 사 서
A3: 번호 | B3: 품 명 | D3: 규 격 | E3: 단위 | F3: 수량 | G3: 단가 | H3: 금 액 | J3: 비 고
A4: 1 | B4: 드릴 | D4: 서스 | E4: set | F4: 1 | G4: 51200 | H4: =SUM(F4*G4) -> 51200 | J4: 인터넷
A5: 2 | B5: 충전 앵글그라인더 | D5: 마끼다.DGA406 | E5: EA | F5: 1 | G5: 412500 | H5: =SUM(F5*G5) -> 412500 | J5: 인터넷
A6: 3 | B6: 사다리 | D6: 4*6단 | E6: EA | F6: 1 | G6: 210000 | H6: =SUM(F6*G6) -> 210000 | J6: 인터넷
A7: 4 | B7: 사다리 | D7: AH형 5단 | E7: EA | F7: 2 | G7: 52100 | H7: =SUM(F7*G7) -> 104200 | J7: 인터넷
A8: 5 | B8: 청정소화기 | D8: 3Kg | E8: EA | F8: 2 | G8: 128700 | H8: =SUM(F8*G8) -> 257400 | J8: 인터넷
A9: 6 | B9: 분말소화기 | D9: 3Kg | E9: 개 | F9: 5 | G9: 19310 | H9: =SUM(F9*G9) -> 96550 | J9: 인터넷
A10: 7 | B10: 양면테이프 | D10: 50mm * 2M | E10: ea | F10: 4 | G10: 25700 | H10: =SUM(F10*G10) -> 102800 | J10: 인터넷
A11: 8 | B11: 작업용 코팅장갑 | D11: 3M | E11: EA | F11: 50 | G11: 1950 | H11: =SUM(F11*G11) -> 97500 | J11: 인터넷
B12: 소 계 | H12: =SUM(H4:H11) -> 1332150

Sheet 아현문화건강센타
A1: 가격산출기초조사서(아현문화건강센터)
A3: 순번 | B3: 품 명 | C3: 규 격 | D3: 단위 | E3: 수량 | F3: 단가 | G3: 금액 | H3: 제조사 | I3: 비고
A4: 1 | B4: 아날로그 온습도계 | C4: 플라스틱 온도계습도계(6568) : 옵션01 | D4: 개 | E4: 10 | F4: 2710 | G4: =F4*E4 -> 27100 | H4: ㈜트리 | I4: 인터넷 | J4: 부가세포함
A5: 2 | B5: 볼밸브 | C5: 15A | D5: 개 | E5: 3 | F5: 8540 | G5: =F5*E5 -> 25620 | H5: ㈜명인코리아 | I5: 인터넷 | J5: 부가세포함
A6: 3 | C6: 20A | D6: 개 | E6: 3 | F6: 12330 | G6: =F6*E6 -> 36990 | J6: 부가세포함
A7: 4 | C7: 25A | D7: 개 | E7: 3 | F7: 18200 | G7: =F7*E7 -> 54600 | J7: 부가세포함
A8: 5 | C8: 32A | D8: 개 | E8: 3 | F8: 26880 | G8: =F8*E8 -> 80640 | J8: 부가세포함
A9: 6 | C9: 50A | D9: 개 | E9: 3 | F9: 55170 | G9: =F9*E9 -> 165510 | J9: 부가세포함
A10: 7 | B10: 매직 보온테이프 | C10: 녹색(100*15) | D10: 개 | E10: 10 | F10: =790*1.1 -> 869 | G10: =F10*E10 -> 8690 | H10: MK | I10: 인터넷 | J10: 부가세포함
A11: 8 | C11: 적색(100*15) | D11: 개 | E11: 10 | F11: =790*1.1 -> 869 | G11: =F11*E11 -> 8690 | J11: 부가세포함
A12: 9 | C12: 황색(100*15) | D12: 개 | E12: 10 | F12: =790*1.1 -> 869 | G12: =F12*E12 -> 8690 | J12: 부가세포함
A13: 10 | C13: 청색(100*15) | D13: 개 | E13: 10 | F13: =790*1.1 -> 869 | G13: =F13*E13 -> 8690 | J13: 부가세포함
A14: 11 | C14: 백색(100*15) | D14: 개 | E14: 10 | F14: =790*1.1 -> 869 | G14: =F14*E14 -> 8690 | J14: 부가세포함
A15: 12 | C15: 흑색(100*15) | D15: 개 | E15: 10 | F15: =790*1.1 -> 869 | G15: =F15*E15 -> 8690 | J15: 부가세포함
A16: 13 | B16: 자동폽업 | C16: DL-P4021 | D16: 개 | E16: 5 | F16: 11230 | G16: =F16*E16 -> 56150 | H16: 대림바스 | I16: 인터넷 | J16: 부가세포함
A17: 14 | B17: 아크 용접봉(스텐) | C17: NC-309(5KG) 3.2Ø | D17: box | E17: 1 | F17: =79900*1.1 -> 87890 | G17: =F17*E17 -> 87890 | H17: 조선선재 | I17: 인터넷 | J17: 부가세포함
A18: 15 | B18: 아크 용접봉(연강봉) | C18: CR-13(20KG) / 3.2mm | D18: box | E18: 1 | F18: 74100 | G18: =F18*E18 -> 74100 | H18: 조선선재 | I18: 인터넷 | J18: 부가세포함
A19: 16 | B19: 안전띠 | C19: 백색 | D19: ROLL | E19: 3 | F19: =5790*1.1 -> 6369 | G19: =F19*E19 -> 19107 | H19: 성진산업사 | I19: 인터넷 | J19: 부가세포함
A20: 17 | B20: 에어밴트 | C20: 15A | D20: 개 | E20: 3 | F20: =34900*1.1 -> 38390 | G20: =F20*E20 -> 115170 | H20: 신일밸브 | I20: 인터넷 | J20: 부가세포함
A21: 18 | B21: 양쪽개폐형 공구함 | C21: 440*190*180 | D21: 개 | E21: 1 | F21: =8990*1.1 -> 9889 | G21: =F21*E21 -> 9889 | H21: 나비엠알오 | I21: 인터넷 | J21: 부가세포함
A22: 19 | B22: 온도계 | C22: T형 150도 X 75파이- 100mm | D22: 개 | E22: 3 | F22: =4990*1.1 -> 5489 | G22: =F22*E22 -> 16467 | H22: - | I22: 인터넷 | J22: 부가세포함
A23: 20 | B23: 알루미늄테이프 | C23: 폭 : 50mm | D23: 개 | E23: 10 | F23: =790*1.1 -> 869 | G23: =F23*E23 -> 8690 | H23: 금성케이엔티 | I23: 인터넷 | J23: 부가세포함
A24: 21 | B24: 서랍형부품박스 | C24: 344 X 205(191) X 270 | D24: 개 | E24: 2 | F24: =13900*1.1 -> 15290 | G24: =F24*E24 -> 30580 | H24: 중앙브레인 | I24: 인터넷 | J24: 부가세포함
A25: 22 | B25: NBR 폼 코팅장갑 | C25: 사이즈: L / 1PK(10켤레) | D25: 1PK | E25: 5 | F25: =10965*1.1 -> 12061.5 | G25: =F25*E25 -> 60307.5 | H25: 나비엠알오 | I25: 인터넷 | J25: 부가세포함
A26: 23 | B26: 가로꼭지 | C26: 15A / 1PK(10결레) | D26: 1PK | E26: 1 | F26: =29900*1.1 -> 32890 | G26: 29900 | H26: 대정워터스 | I26: 인터넷 | J26: 부가세포함
A27: 24 | B27: 십자커플링수도꼭지 | C27: 15A 냉수 | D27: 개 | E27: 3 | F27: =5390*1.1 -> 5929 | G27: =F27*E27 -> 17787 | H27: MK | I27: 인터넷 | J27: 부가세포함
A28: 25 | B28: 엘보 | C28: 15A | D28: 개 | E28: 3 | F28: =890*1.1 -> 979 | G28: =F28*E28 -> 2937 | H28: 유진금속 | I28: 인터넷 | J28: 부가세포함
A29: 26 | C29: 20A | D29: 개 | E29: 3 | F29: =1290*1.1 -> 1419 | G29: =F29*E29 -> 4257 | J29: 부가세포함
A30: 27 | C30: 25A | D30: 개 | E30: 3 | F30: =1890*1.1 -> 2079 | G30: =F30*E30 -> 6237 | J30: 부가세포함
A31: 28 | C31: 32A | D31: 개 | E31: 3 | F31: =2790*1.1 -> 3069 | G31: =F31*E31 -> 9207 | J31: 부가세포함
A32: 29 | B32: 압력계 | C32: 사이즈:50A 나사규격: 1/4 | D32: 개 | E32: 3 | F32: =4890*1.1 -> 5379 | G32: =F32*E32 -> 16137 | H32: - | I32: 인터넷 | J32: 부가세포함
A33: 30 | B33: 모서리 안전보호대 | C33: 25×25×2000 , 소 | D33: 개 | E33: 5 | F33: =6990*1.1 -> 7689 | G33: =F33*E33 -> 38445 | H33: 아트사인 | I33: 인터넷 | J33: 부가세포함
A34: 31 | B34: 세면기 고압호수 | C34: 600mm | D34: 개 | E34: 5 | F34: =2290*1.5 -> 3435 | G34: =F34*E34 -> 17175 | H34: 철물박사 | I34: 인터넷 | J34: 부가세포함
A35: 32 | B35: 스첸철사 | C35: 아연도금철사 2.0mm - 10미터 | D35: 개 | E35: 5 | F35: 2500 | G35: =F35*E35 -> 12500 | H35: 제일선재 | I35: 인터넷 | J35: 부가세포함
A36: 33 | B36: 빗물털이기 | C36: RDT -1 SS | D36: 개 | E36: 1 | F36: 594000 | G36: =F36*E36 -> 594000 | H36: 레인드롭탭 | I36: 인터넷 | J36: 부가세포함
A37: 34 | B37: 아크용접기 | C37: FIRE 7000 | D37: 개 | E37: 1 | F37: =293400*1.1 -> 322740 | G37: 293400 | H37: 하림전기 | I37: 인터넷 | J37: 부가세포함
A38: 35 | B38: 용접용 장갑 | C38: (대) - 340mm | D38: 개 | E38: 2 | F38: =3490*1.1 -> 3839 | G38: =F38*E38 -> 7678 | H38: 나비엠알오 | I38: 인터넷 | J38: 부가세포함
A39: 36 | B39: 자동차광 용접면 | C39: 96*39 | D39: 개 | E39: 1 | F39: =52900*1.1 -> 58190 | G39: 52900 | H39: 나비엠알오 | I39: 인터넷 | J39: 부가세포함
A40: 37 | B40: 용접기 홀더세트 | C40: 16SQ 10M | D40: 개 | E40: 1 | F40: =32900*1.1 -> 36190 | G40: 32900 | H40: 퍼펙트대대 | I40: 인터넷 | J40: 부가세포함
A41: 38 | B41: 용접 앞치마 | C41: 600*900 | D41: 개 | E41: 1 | F41: =8690*1.1 -> 9559 | G41: 8690 | H41: 태성산업 | I41: 인터넷 | J41: 부가세포함
...

Sheet 창업복지관
B1: 기초산출조사서
B2: 금1,229,000원(금일백이십이만구천원-부가세포함)
A4: 번호 | B4: 품 명 | C4: 규 격 | D4: 수 량 | E4: 단 위 | F4: 인터넷자료 | H4: 적용 자료 | J4: 비고
F5: 단 가 | G5: 금 액 | H5: 단 가 | I5: 금 액
A6: 1 | B6: PVC 공구함 | C6: SM-T402 | D6: 1 | E6: ea | F6: 11220 | G6: =D6*F6 -> 11220 | H6: 11220 | I6: =H6*D6 -> 11220 | J6: 인터넷
A7: 2 | B7: 화장실큐비클 잠금쇠 | C7: 구형 해우소 원형잠금쇠사이즈(N204) | D7: 10 | E7: ea | F7: 16000 | G7: =D7*F7 -> 160000 | H7: 16000 | I7: =H7*D7 -> 160000 | J7: 인터넷
A8: 3 | B8: 온수순환용펌프 | C8: wilo PH-080M (40mm) | D8: 4 | E8: ea | F8: 75080 | G8: =D8*F8 -> 300320 | H8: 75080 | I8: =H8*D8 -> 300320 | J8: 인터넷
A9: 4 | B9: 대변기 세척밸브 | C9: 국내산 KS인증마크 규격제품(절수형) | D9: 10 | E9: ea | F9: 27800 | G9: =D9*F9 -> 278000 | H9: 27800 | I9: =H9*D9 -> 278000 | J9: 인터넷
A10: 5 | B10: 세면대 폽업 | C10: DL-P4020(수동폽업) | D10: 10 | E10: ea | F10: 15000 | G10: =D10*F10 -> 150000 | H10: 15000 | I10: =H10*D10 -> 150000 | J10: 인터넷
A11: 6 | B11: 스텐 비누받침대 | C11: 고정피스 구멍 간격(35mm) | D11: 20 | E11: ea | F11: 5070 | G11: =D11*F11 -> 101400 | H11: 5070 | I11: =H11*D11 -> 101400 | J11: 인터넷
A12: 7 | B12: 충전식LED 작업등 (충전 아답터 포함) | C12: SWL-240R2(배터리용량5,200mAh) | D12: 2 | E12: ea | F12: 54813 | G12: =D12*F12 -> 109626 | H12: 54813 | I12: =H12*D12 -> 109626 | J12: 인터넷
A13: 8 | B13: LED랜턴 (배터리+ 충전기 포함) | C13: ultra search Cree XP-L V6 (배터리 3500mAh) | D13: 2 | E13: ea | F13: 59300 | G13: =D13*F13 -> 118600 | H13: 59300 | I13: =H13*D13 -> 118600 | J13: 인터넷
B14: 합 계 | G14: =SUM(G6:G13) -> 1229166 | I14: =SUM(I6:I13)-166 -> 1229000 | J14: 백단위 절사

Sheet 농수산물시장
A1: 번호 | B1: 품 명 | C1: 규 격 | D1: 단위 | E1: 수량 | F1: 단가 | G1: 금액 | H1: 비 고
A2: 1 | B2: 다목적사다리 | C2: LS-4 | D2: 개 | E2: 1 | F2: 75000 | G2: =SUM(E2*F2) -> 75000 | H2: 인터넷
A3: 2 | B3: 로프사다리 | C3: SU-D1 | D3: 개 | E3: 1 | F3: 90000 | G3: 90000 | H3: 인터넷
A4: 3 | B4: 광폭홈스템 | C4: SU-G5 | D4: 개 | E4: 1 | F4: 65000 | G4: =SUM(E4*F4) -> 65000 | H4: 인터넷
A5: 4 | B5: 저장식전기온수기 | C5: PLUS-50 | D5: 개 | E5: 1 | F5: 159250 | G5: =SUM(E5*F5) -> 159250 | H5: 인터넷
A6: 5 | B6: 해빙기전선 | C6: 35SQ | D6: EA/10M | E6: 4 | F6: 52650 | G6: =SUM(E6*F6) -> 210600 | H6: 인터넷
A7: 6 | B7: 전기헤빙기 | C7: 7.5KW | D7: 개 | E7: 1 | F7: 254910 | G7: =SUM(E7*F7) -> 254910 | H7: 인터넷
A8: 7 | B8: 보쉬AC드릴척 | C8: 13MM+sds 어댑터982 | D8: 개 | E8: 2 | F8: 21000 | G8: =SUM(E8*F8) -> 42000 | H8: 인터넷
A9: 8 | B9: 리벳못 | C9: 4mm | D9: 봉지 | E9: 2 | F9: 2500 | G9: =SUM(E9*F9) -> 5000 | H9: 인터넷
A10: 9 | B10: 스테인레스리벳못 | C10: 4mm | D10: 봉지 | E10: 1 | F10: 9000 | G10: =SUM(E10*F10) -> 9000 | H10: 인터넷
A11: 10 | B11: 볼렌치 | C11: 13ps | D11: 개 | E11: 1 | F11: 12500 | G11: =SUM(E11*F11) -> 12500 | H11: 인터넷
A12: 11 | B12: 서랍식부품함 | C12: ca509 | D12: 개 | E12: 3 | F12: 20520 | G12: =SUM(E12*F12) -> 61560 | H12: 인터넷
A13: 12 | B13: 컵써클캇타 | C13: cp200 | D13: 개 | E13: 1 | F13: 47000 | G13: =SUM(E13*F13) -> 47000 | H13: 인터넷
A14: 13 | B14: 공구함시리즈 | C14: sm-t301 | D14: 개 | E14: 2 | F14: 6510 | G14: =SUM(E14*F14) -> 13020 | H14: 인터넷
A15: 14 | B15: 동파방지형히터 | C15: 센서형 30m | D15: 개 | E15: 2 | F15: 28370 | G15: =SUM(E15*F15) -> 56740 | H15: 인터넷
... A20: 19 | B20: 은박보온재(동관) | C20: 25mm * 50t | D20: 개 | E20: 10 | F20: 11310 | G20: =SUM(E20*F20) -> 113100 | H20: 인터넷
A21: 20 | C21: 20mm * 50t | D21: 개 | E21: 20 | F21: 10820 | G21: =SUM(E21*F21) -> 216400 | H21: 인터넷
A22: 21 | B22: 세라믹히터(벽걸이) | C22: DWH-W1625 | D22: 개 | E22: 2 | F22: 26900 | G22: =SUM(E22*F22) -> 53800 | H22: 인터넷
A23: 22 | B23: 스피드핸들 | D23: 개 | E23: 1 | F23: 22300 | G23: =SUM(E23*F23) -> 22300 | H23: 인터넷
A24: 23 | B24: 부탄가스 어댑터 | D24: 개 | E24: 1 | F24: 12450 | G24: =SUM(E24*F24) -> 12450 | H24: 인터넷
A25: 24 | B25: 파이프바이스 | C25: 12~65mm | D25: 개 | E25: 1 | F25: 57000 | G25: =SUM(E25*F25) -> 57000 | H25: 인터넷
A26: 25 | B26: 탁상바이스 | C26: HS-BV75 | D26: 개 | E26: 1 | F26: 65190 | G26: =SUM(E26*F26) -> 65190 | H26: 인터넷
B27: 합계 | G27: =SUM(G2:G26) -> 2659240
G36: 인터넷

Sheet 주민편익시설
A1: 번호 | B1: 품목명 | C1: 개수(EA) | D1: 단가(원) | E1: 가격(원) | F1: 출처
A2: 1 | B2: 절단석(14inch) | C2: 5 | D2: 2700 | E2: =C2*D2 -> 13500 | F2: 인터넷
A3: 2 | B3: 소화기 부라켓 | C3: 5 | D3: 4400 | E3: =D3*C3 -> 22000 | F3: 인터넷
A4: 3 | B4: 실리콘 백색 | C4: 5 | D4: 1600 | E4: =D4*C4 -> 8000 | F4: 인터넷
A5: 4 | B5: 실리콘 회색 | C5: 3 | D5: 1600 | E5: =D5*C5 -> 4800 | F5: 인터넷
A6: 5 | B6: 실리콘 투명 | C6: 2 | D6: 1850 | E6: =D6*C6 -> 3700 | F6: 인터넷
A7: 6 | B7: 복합형 자동에어변(쓰리원) | C7: 5 | D7: 40000 | E7: =D7*C7 -> 200000 | F7: 인터넷
A8: 7 | B8: 샤워기 수전(입식, RBT700A) | C8: 5 | D8: 162110 | E8: =D8*C8 -> 810550 | F8: 인터넷
A9: 8 | B9: 도어클로져 | C9: 5 | D9: 26000 | E9: =D9*C9 -> 130000 | F9: 인터넷
A10: 9 | B10: 전지가위(양손) | C10: 1 | D10: 15830 | E10: =D10*C10 -> 15830
A11: 10 | B11: 육각렌치(1set) | C11: 1 | D11: 5900 | E11: =D11*C11 -> 5900 | F11: 인터넷
A12: 11 | B12: 바이스플라이어 | C12: 1 | D12: 3650 | E12: =D12*C12 -> 3650 | F12: 인터넷
A13: 12 | B13: 스패너(8x9mm) | C13: 2 | D13: 2700 | E13: =D13*C13 -> 5400
A14: 13 | B14: 빠루(소) | C14: 1 | D14: 16800 | E14: =D14*C14 -> 16800
A15: 14 | B15: 에어벤트(100A) | C15: 3 | D15: 52800 | E15: =D15*C15 -> 158400 | F15: 인터넷
A16: 15 | B16: 에어벤트(50A) | C16: 3 | D16: 32300 | E16: =D16*C16 -> 96900 | F16: 인터넷
B17: 합계 | E17: =SUM(E2:E16) -> 1495430

Sheet 시설주차장
C2: 기 초 산 출 조 사 서
B3: 시설주차장 설비 자재
A4: 번호 | B4: 품 명 | C4: 규 격 | D4: 단위 | E4: 수량 | F4: 단가 | G4: 금 액 | H4: 비 고
A5: 1 | B5: 드릴 | C5: 철 | D5: set | E5: 1 | F5: 28200 | G5: =SUM(E5*F5) -> 28200 | H5: 인터넷 | I5: 부가세 포함
A6: 2 | C6: 서스 | D6: set | E6: 1 | F6: 51200 | G6: =SUM(E6*F6) -> 51200 | H6: 인터넷 | I6: 부가세 포함
A7: 3 | B7: 공기질 측정기 | C7: CO,CO2,온도,습도 겸용 | D7: EA | E7: 1 | F7: 478500 | G7: =SUM(E7*F7) -> 478500 | H7: 인터넷 | I7: 부가세 포함
A8: 4 | B8: 다가네 드라이버 | C8: -자(10*300) | D8: EA | E8: 1 | F8: 12150 | G8: =SUM(E8*F8) -> 12150 | H8: 인터넷 | I8: 부가세 포함
A9: 5 | B9: 디월트 이동식 공구함 | C9: DWST17820 | D9: EA | E9: 1 | F9: 99000 | G9: =SUM(E9*F9) -> 99000 | H9: 인터넷 | I9: 부가세 포함
A10: 6 | C10: DWST17803 | D10: EA | E10: 1 | F10: 39900 | G10: =SUM(E10*F10) -> 39900 | H10: 인터넷 | I10: 부가세 포함
A11: 7 | C11: DWST17804 | D11: EA | E11: 1 | F11: 45500 | G11: =SUM(E11*F11) -> 45500 | H11: 인터넷 | I11: 부가세 포함
A12: 8 | B12: 직결피스 | C12: #8*16-1000개(1봉) | D12: 봉 | E12: 1 | F12: 9900 | G12: =SUM(E12*F12) -> 9900 | H12: 인터넷 | I12: 부가세 포함
A13: 9 | C13: #8*20-1000개(1봉) | D13: 봉 | E13: 1 | F13: 12100 | G13: =SUM(E13*F13) -> 12100 | H13: 인터넷 | I13: 부가세 포함
A14: 10 | C14: #8*32-500개(1봉) | D14: 봉 | E14: 1 | F14: 8800 | G14: =SUM(E14*F14) -> 8800 | H14: 인터넷 | I14: 부가세 포함
A15: 11 | B15: 나무피스 | C15: 4*16-500 | D15: 봉 | E15: 1 | F15: 7800 | G15: =SUM(E15*F15) -> 7800 | H15: 인터넷 | I15: 부가세 포함
A16: 12 | B16: 충전 직소기 | C16: GST18V-LI S(5.0베터리 2개, 날 3종) | D16: set | E16: 1 | F16: 562930 | G16: =SUM(E16*F16) -> 562930 | H16: 인터넷-보쉬 | I16: 부가세 포함
A17: 13 | B17: 충전 컷소기 | C17: GSA18V-LI C(5.0베터리 2개, 날 3종) | D17: set | E17: 1 | F17: 426500 | G17: =SUM(E17*F17) -> 426500 | H17: 인터넷-보쉬 | I17: 부가세 포함
A18: 14 | B18: 레이저 거리측정기 | C18: GLM50C(블루투스 연결) | D18: set | E18: 1 | F18: 119900 | G18: =SUM(E18*F18) -> 119900 | H18: 인터넷-보쉬 | I18: 부가세 포함
B19: 합 계 | G19: =SUM(G5:G18) -> 1902380
