Workbook

Sheet 집계표
A1: 가격산출기초조사서 집계표
A3: 사업장명 | B3: 단위 | C3: 수량 | D3: 재 료 비 | F3: 비 고
D4: 단가 | E4: 금액
A5: 마포중앙도서관 | B5: 식 | C5: 1 | D5: =마포중앙도서관!G29 -> 2766500 | E5: =C5*D5 -> 2766500
A6: 대흥실뿌리복지센터 | B6: 식 | C6: 1 | D6: =대흥실뿌리복지센터!G10 -> 1558700 | E6: =C6*D6 -> 1558700
A7: 마포구민체육센터 | B7: 식 | C7: 1 | D7: =마포구민체육센터!G40 -> 2410100 | E7: =C7*D7 -> 2410100
A8: 아현실뿌리복지센터 | B8: 식 | C8: 1 | D8: =아현실뿌리복지센터!G24 -> 1017500 | E8: =C8*D8 -> 1017500
A9: 염리종합사회복지관 | B9: 식 | C9: 1 | D9: =염리종합사회복지관!G13 -> 1017500 | E9: =C9*D9 -> 1017500
A10: 소금나루도서관 | B10: 식 | C10: 1 | D10: =소금나루도서관!G13 -> 137500 | E10: =C10*D10 -> 137500
A11: 염리·성미산체육관 | B11: 식 | C11: 1 | D11: =염리생활·성미산체육관!G33 -> 1105500 | E11: =C11*D11 -> 1105500
A12: 마포구종합청사 | B12: 식 | C12: 1 | D12: =마포구종합청사!G11 -> 652300 | E12: =C12*D12 -> 652300
A13: 홍대공공업무시설 | B13: 식 | C13: 1 | D13: =홍대공공업무시설!G16 -> 646800 | E13: =C13*D13 -> 646800
A14: 마포장애인복지회관 | B14: 식 | C14: 1 | D14: =마포장애인복지회관!G12 -> 343200 | E14: =C14*D14 -> 343200
A15: 마포농수산물시장 | B15: 식 | C15: 1 | D15: =농수산물시장!G16 -> 1402500 | E15: =C15*D15 -> 1402500
A16: 마포창업복지관 | B16: 식 | C16: 1 | D16: =창업복지관!G20 -> 746900 | E16: =C16*D16 -> 746900
A17: 마포주민편익시설 | B17: 식 | C17: 1 | D17: =마포주민편익시설!G13 -> 1419000 | E17: =C17*D17 -> 1419000
A18: 주차관리부 | B18: 식 | C18: 1 | D18: =주차관리부!G28 -> 2390300 | E18: =C18*D18 -> 2390300
A19: [합 계] | E19: =SUM(E5:E18) -> 17614300

Sheet 마포중앙도서관
A1: 가격산출기초조사서(중앙도서관)
A3: 순번 | B3: 품 명 | C3: 규 격 | D3: 단위 | E3: 수량 | F3: 단가 | G3: 금액 | H3: 제조사 | I3: 시장조사 | J3: 예산과목
A4: 1 | B4: 리젠시리즈 대기전력 자동차단 콘센트 | C4: 3구 절전형 | D4: 개 | E4: 5 | F4: 56000 | G4: =E4*F4 -> 280000 | H4: 신동아ES | I4: 인터넷 | J4: 사무관리비
A5: 2 | B5: LED 손전등 | C5: P5R Core 500루멘 | D5: 개 | E5: 3 | F5: 78000 | G5: =E5*F5 -> 234000 | H5: 레드렌서 | I5: 인터넷 | J5: 사무관리비
A6: 3 | B6: 산업용청소기 | C6: WD5 | D6: 개 | E6: 1 | F6: 289000 | G6: =E6*F6 -> 289000 | H6: 카처 | I6: 인터넷 | J6: 사무관리비
A7: 4 | B7: 라벨프린터 | C7: LW-K740WH | D7: 개 | E7: 1 | F7: 175000 | G7: =E7*F7 -> 175000 | H7: 엡손 | I7: 인터넷 | J7: 사무관리비
A8: 5 | B8: 표준형 라벨테이프 카트리지 | C8: 24mm 9M SC24Y 노랑/검정 | D8: 개 | E8: 1 | F8: 11900 | G8: =E8*F8 -> 11900 | H8: 엡손 | I8: 인터넷 | J8: 사무관리비
A9: 6 | C9: 18mm 9M SC18Y 노랑/검정 | D9: 개 | E9: 1 | F9: 11900 | G9: =E9*F9 -> 11900
A10: 7 | C10: 12mm 9M SC12Y 노랑/검정 | D10: 개 | E10: 1 | F10: 8400 | G10: =E10*F10 -> 8400
A11: 8 | B11: 프로그램스위치 | C11: CRC3011 | D11: 개 | E11: 1 | F11: =57000*1.1 -> 62700 | G11: =E11*F11 -> 62700 | H11: CLARUS KOREA | I11: 인터넷 | J11: 사무관리비
A12: 9 | C12: CRC3012 | D12: 개 | E12: 2 | F12: =63000*1.1 -> 69300 | G12: =E12*F12 -> 138600
A13: 10 | C13: CRC3013 | D13: 개 | E13: 3 | F13: =69000*1.1 -> 75900 | G13: =E13*F13 -> 227700
A14: 11 | C14: CRC3014 | D14: 개 | E14: 2 | F14: =75000*1.1 -> 82500 | G14: =E14*F14 -> 165000
A15: 12 | B15: 리모트 콘트롤 릴레이 | C15: CRC-7000 | D15: 개 | E15: 3 | F15: =25000*1.1 -> 27500 | G15: =E15*F15 -> 82500
A16: 13 | B16: 3M장갑 10개 세트 | C16: L사이즈, 3000MAX | D16: 개 | E16: 7 | F16: 21000 | G16: =E16*F16 -> 147000 | H16: 3M | I16: 인터넷 | J16: 사무관리비
A17: 14 | C17: S사이즈, 3000MAX | D17: 개 | E17: 3 | F17: 21000 | G17: =E17*F17 -> 63000
A18: 15 | B18: VCTF 2.5SQ 3C | C18: 3C 100M | D18: 개 | E18: 1 | F18: 131900 | G18: =E18*F18 -> 131900 | H18: 서남전선 | I18: 인터넷 | J18: 사무관리비
A19: 16 | B19: LS HFIX 2.5SQ | C19: 갈색 100M | D19: 개 | E19: 1 | F19: 49900 | G19: =E19*F19 -> 49900 | H19: LS전선 | I19: 인터넷 | J19: 사무관리비
A20: 17 | C20: 황색 100M | D20: 개 | E20: 1 | F20: 49900 | G20: =E20*F20 -> 49900
A21: 18 | C21: 녹색 100M | D21: 개 | E21: 1 | F21: 49900 | G21: =E21*F21 -> 49900
A22: 19 | B22: 코팅기 | C22: HC4340D | D22: 개 | E22: 1 | F22: 130870 | G22: =E22*F22 -> 130870 | H22: 카피어랜드 | I22: 인터넷 | J22: 사무관리비
A23: 20 | B23: 주먹드라이버 | C23: QW-6460 | D23: 개 | E23: 4 | F23: 3160 | G23: =E23*F23 -> 12640 | H23: Q-WAY | I23: 인터넷 | J23: 사무관리비
A24: 21 | B24: 디월트 비트110mm 5P+자화기 | C24: DWA2SD110 | D24: 개 | E24: 3 | F24: 10800 | G24: =E24*F24 -> 32400 | H24: 디월트 | I24: 인터넷 | J24: 사무관리비
A25: 22 | B25: 거실통로유도등 | C25: 벽부 중형(좌) | D25: 개 | E25: 4 | F25: 24500 | G25: =E25*F25 -> 98000 | H25: 리더스테크 | I25: 인터넷 | J25: 사무관리비
A26: 23 | B26: 피난구유도동 | C26: 벽부 중형 | D26: 개 | E26: 4 | F26: 15800 | G26: =E26*F26 -> 63200 | J26: 사무관리비
A27: 소 계 | G27: =ROUND(SUM(G4:G26),-3) -> 2515000
A28: 부가세 | G28: =G27*0.1 -> 251500
A29: 합 계 | G29: =G27+G28 -> 2766500

Sheet 대흥실뿌리복지센터
A1: 가격산출기초조사서(대흥실뿌리복지센터)
A3: 순번 | B3: 품 명 | C3: 규 격 | D3: 단위 | E3: 수량 | F3: 단가 | G3: 금액 | H3: 제조사 | I3: 비고 | J3: 예산과목
A4: 1 | B4: 앰프 무선 블루투스 스피커 | C4: KY500 | D4: 개 | E4: 1 | F4: 199750 | G4: =E4*F4 -> 199750 | H4: COMS | I4: 인터넷 | J4: 사무관리비
A5: 2 | B5: 건습식 업소용 청소기 | C5: CS-150SW 50L | D5: 개 | E5: 1 | F5: 370000 | G5: =E5*F5 -> 370000 | H5: 시에스테크 | I5: 인터넷 | J5: 사무관리비
A6: 3 | B6: 전동 송풍기 | C6: 42V 낙엽 무선 제설 대형 대포 송풍기 블로워 | D6: EA | E6: 1 | F6: 257500 | G6: =E6*F6 -> 257500 | H6: 나리온 | I6: 인터넷 | J6: 사무관리비
A7: 4 | B7: LED 다운라이트(6인치) | C7: 6인치, 20W(국내산) | D7: 개 | E7: 100 | F7: 5900 | G7: =E7*F7 -> 590000 | H7: 장수램프 | I7: 인터넷 | J7: 사무관리비
A8: 소 계 | G8: =ROUND(SUM(G4:G7),-3) -> 1417000
A9: 부가세 | G9: =G8*0.1 -> 141700
A10: 합 계 | G10: =G8+G9 -> 1558700

Sheet 마포구민체육센터
A1: 가격산출기초조사서(마포구민체육센터)
A3: 순번 | B3: 품 명 | C3: 규 격 | D3: 단위 | E3: 수량 | F3: 단가 | G3: 금액 | H3: 제조사 | I3: 비고 | J3: 예산과목
A4: 1 | B4: 임팩드릴 | C4: 본체 18V DTD172 | D4: 개 | E4: 1 | F4: 163500 | G4: =E4*F4 -> 163500 | H4: 마끼다 | I4: 인터넷 | J4: 사무관리비
C5: 마끼다 정품배터리(5.0Ah_BL1850B) | D5: 개 | E5: 1 | F5: 99000 | G5: =E5*F5 -> 99000
A6: 2 | B6: 무선 작업등 | C6: LED 34구 어댑터 충전식 랜턴 | D6: 개 | E6: 3 | F6: 15000 | G6: =E6*F6 -> 45000 | H6: 보성전기조명 | I6: 인터넷 | J6: 사무관리비
A7: 3 | B7: 펜치 | C7: D213-9NECR | D7: 개 | E7: 1 | F7: 32700 | G7: =E7*F7 -> 32700 | H7: 크레인툴즈 | I7: 인터넷 | J7: 사무관리비
A8: 4 | B8: 드라이버 | C8: 십자 전공드라이버 220/150mm | D8: 개 | E8: 2 | F8: 7600 | G8: =E8*F8 -> 15200 | H8: 베셀 | I8: 인터넷 | J8: 사무관리비
C9: 일자 전공드라이버 220/150mm | D9: 개 | E9: 2 | F9: 7600 | G9: =E9*F9 -> 15200
C10: 주먹양용드라이버660 | D10: 개 | E10: 2 | F10: 6900 | G10: =E10*F10 -> 13800
A11: 5 | B11: 다목적가위 | C11: P-300 | D11: 개 | E11: 3 | F11: 4240 | G11: =E11*F11 -> 12720 | H11: 화신금속공업 | I11: 인터넷 | J11: 사무관리비
A12: 6 | B12: 멀티탭 | C12: 개별스위치 5구 5M | D12: 개 | E12: 6 | F12: 20100 | G12: =E12*F12 -> 120600 | H12: 현대일렉트릭 | I12: 인터넷 | J12: 사무관리비
C13: 개별스위치 6구 5M | D13: 개 | E13: 6 | F13: 21900 | G13: =E13*F13 -> 131400
A14: 7 | B14: HFIX 전선 | C14: HFIX 2.5SQ 100M 갈색 | D14: 개 | E14: 1 | F14: 49900 | G14: =E14*F14 -> 49900 | H14: LS 전선 | I14: 인터넷 | J14: 사무관리비
C15: HFIX 2.5SQ 100M 흑색 | D15: 개 | E15: 1 | F15: 49900 | G15: =E15*F15 -> 49900
C16: HFIX 2.5SQ 100M 청색 | D16: 개 | E16: 1 | F16: 49900 | G16: =E16*F16 -> 49900
C17: HFIX 2.5SQ 100M 녹색 | D17: 개 | E17: 1 | F17: 49900 | G17: =E17*F17 -> 49900
A18: 8 | B18: VCTF | C18: 2.5SQ 3C 100M | D18: 개 | E18: 2 | F18: 131900 | G18: =E18*F18 -> 263800 | H18: 국내 제조사 생산품 | I18: 인터넷 | J18: 사무관리비
A19: 9 | B19: 케이블타이 | C19: 300mm*500개 | D19: 개 | E19: 2 | F19: 15800 | G19: =E19*F19 -> 31600 | H19: 전오전기 | I19: 인터넷 | J19: 사무관리비
C20: 370mm*300개 | D20: 개 | E20: 2 | F20: 14500 | G20: =E20*F20 -> 29000
A21: 10 | B21: 3M 전기절연테이프 | C21: 170-고성능/19mm*10M 10개입 | D21: 개 | E21: 3 | F21: 5200 | G21: =E21*F21 -> 15600 | H21: 3M | I21: 인터넷 | J21: 사무관리비
A22: 11 | B22: 본딩접지선 | C22: 5.5SQ 200~250mm | D22: 개 | E22: 5 | F22: 1500 | G22: =E22*F22 -> 7500 | H22: 분전반제작소 청풍 | I22: 인터넷 | J22: 사무관리비
A23: 12 | B23: 용접기 케이블 | C23: 25SQ 홀더5M 어스3M(커넥터 대) | D23: 개 | E23: 1 | F23: 43300 | G23: =E23*F23 -> 43300 | H23: 코리아나 | I23: 인터넷 | J23: 사무관리비
A24: 13 | B24: 공구가방 | C24: DWST83489-1 | D24: 개 | E24: 1 | F24: 27200 | G24: =E24*F24 -> 27200 | H24: 디월트 | I24: 인터넷 | J24: 사무관리비
A25: 14 | B25: A형 안내판 | C25: 대형 | D25: 개 | E25: 3 | F25: 12000 | G25: =E25*F25 -> 36000 | H25: 지킴안전 | I25: 인터넷 | J25: 사무관리비
A26: 15 | B26: 3M 방진마스크 | C26: 2급 방진마스크 8710L*20개 | D26: 개 | E26: 1 | F26: 10500 | G26: =E26*F26 -> 10500 | H26: 3M | I26: 인터넷 | J26: 사무관리비
A27: 16 | B27: 3M 절연장갑 | C27: 슈퍼그립200 M | D27: 개 | E27: 100 | F27: 1990 | G27: =E27*F27 -> 199000 | H27: 3M | I27: 인터넷 | J27: 사무관리비
A28: 17 | B28: 일회용작업복 | C28: PP회색 투피스(포켓형) 2XL | D28: 개 | E28: 24 | F28: 2000 | G28: =E28*F28 -> 48000 | H28: 다인누리 | I28: 인터넷 | J28: 사무관리비
A29: 18 | B29: 우비 | C29: 상의 네이비 M | D29: 개 | E29: 1 | F29: 59900 | G29: =E29*F29 -> 59900 | H29: 제비표우의 | I29: 인터넷 | J29: 사무관리비
C30: 상의 네이비 L | D30: 개 | E30: 1 | F30: 59900 | G30: =E30*F30 -> 59900
C31: 상의 네이비 XL | D31: 개 | E31: 1 | F31: 59900 | G31: =E31*F31 -> 59900
C32: 하의 블랙 M | D32: 개 | E32: 1 | F32: 23800 | G32: =E32*F32 -> 23800
C33: 하의 블랙 L | D33: 개 | E33: 1 | F33: 23800 | G33: =E33*F33 -> 23800
C34: 하의 블랙 XL | D34: 개 | E34: 1 | F34: 23800 | G34: =E34*F34 -> 23800
A35: 19 | B35: 환풍기(셔터형) | C35: 250MM EKS-250SAP | D35: 개 | E35: 2 | F35: 31100 | G35: =E35*F35 -> 62200 | H35: 한일전기 | I35: 인터넷 | J35: 사무관리비
A36: 20 | B36: 대변기절수세척밸브 | C36: WTF30 | D36: 개 | E36: 3 | F36: 69000 | G36: =E36*F36 -> 207000 | H36: 와토스코리아 | I36: 인터넷 | J36: 사무관리비
A37: 21 | B37: 도어스토퍼 | C37: 페달형 말굽/CG 그레이 | D37: 개 | E37: 20 | F37: 5500 | G37: =E37*F37 -> 110000 | H37: 윤앤조 | I37: 인터넷 | J37: 사무관리비
A38: 소 계 | G38: =ROUND(SUM(G4:G37),-3) -> 2191000
A39: 부가세 | G39: =G38*0.1 -> 219100
A40: 합 계 | G40: =G38+G39 -> 2410100

Sheet 아현실뿌리복지센터
A1: 가격산출기초조사서(아현실뿌리복지센터)
A3: 순번 | B3: 품 명 | C3: 규 격 | D3: 단위 | E3: 수량 | F3: 단가 | G3: 금액 | H3: 제조사 | I3: 시장조사 | J3: 예산과목
A4: 1 | B4: 절연저항계 | C4: IR4056-20 | D4: 개 | E4: 1 | F4: 211500 | G4: =E4*F4 -> 211500 | H4: 히오키 | I4: 인터넷 | J4: 사무관리비
A5: 2 | B5: 공구가방 | C5: DWST82929 | D5: 개 | E5: 1 | F5: 95900 | G5: =E5*F5 -> 95900 | H5: 디월트 | I5: 인터넷 | J5: 사무관리비
A6: 3 | B6: 라벨프린터 | C6: LW-K740WH | D6: 개 | E6: 1 | F6: 175000 | G6: =E6*F6 -> 175000 | H6: 엡손 | I6: 인터넷 | J6: 사무관리비
A7: 4 | B7: 표준형 라벨테이프 카트리지 | C7: 18mm 9M SS18K 흰색/검정 | D7: 개 | E7: 1 | F7: 11900 | G7: =E7*F7 -> 11900 | H7: 엡손 | I7: 인터넷 | J7: 사무관리비
A8: 5 | C8: 12mm 9M SS12K 흰색/검정 | D8: 개 | E8: 1 | F8: 8400 | G8: =E8*F8 -> 8400
A9: 6 | C9: 9mm 9M SS9K 흰색/검정 | D9: 개 | E9: 1 | F9: 8400 | G9: =E9*F9 -> 8400
A10: 7 | B10: 공구정리함 | C10: DA-B015P | D10: 개 | E10: 3 | F10: 25000 | G10: =E10*F10 -> 75000 | H10: 다비아 | I10: 인터넷 | J10: 사무관리비
A11: 8 | B11: 줄자 | C11: KMC-31NJ | D11: 개 | E11: 1 | F11: 13530 | G11: =E11*F11 -> 13530 | H11: 코메론 | I11: 인터넷 | J11: 사무관리비
A12: 9 | B12: 3M장갑 10개 세트 | C12: L사이즈, 3000MAX | D12: 개 | E12: 4 | F12: 21000 | G12: =E12*F12 -> 84000 | H12: 3M | I12: 인터넷 | J12: 사무관리비
A13: 10 | C13: S사이즈, 3000MAX | D13: 개 | E13: 4 | F13: 21000 | G13: =E13*F13 -> 84000 | J13: 사무관리비
A14: 11 | B14: 커터칼 | C14: L601 18MM | D14: 개 | E14: 2 | F14: 4590 | G14: =E14*F14 -> 9180 | H14: 도루코 | I14: 인터넷 | J14: 사무관리비
A15: 12 | B15: 커터날 | C15: 18MM 100개입 | D15: 개 | E15: 1 | F15: 18000 | G15: =E15*F15 -> 18000 | H15: 도루코 | I15: 인터넷 | J15: 사무관리비
A16: 13 | B16: 멀티탭 | C16: 개별스위치 5구 3M | D16: 개 | E16: 2 | F16: 16200 | G16: =E16*F16 -> 32400 | H16: 현대일렉트릭 | I16: 인터넷 | J16: 사무관리비
A17: 14 | C17: 개별스위치 6구 5M | D17: 개 | E17: 2 | F17: 21900 | G17: =E17*F17 -> 43800
A18: 15 | B18: 드릴비트 10ps | C18: 110m 4364 | D18: 개 | E18: 1 | F18: 15500 | G18: =E18*F18 -> 15500 | H18: 밀워키 | I18: 인터넷 | J18: 사무관리비
A19: 16 | B19: 자화기 | C19: 노랑 | D19: 개 | E19: 2 | F19: 4400 | G19: =E19*F19 -> 8800 | H19: 이젠 | I19: 인터넷 | J19: 사무관리비
A20: 17 | B20: 절연드라이버 | C20: G01 NO.200 6*100(일자) | D20: 개 | E20: 2 | F20: 10500 | G20: =E20*F20 -> 21000 | H20: 베셀 | I20: 인터넷 | J20: 사무관리비
A21: 18 | B21: 다목적가위 | C21: P-300 | D21: 개 | E21: 2 | F21: 4240 | G21: =E21*F21 -> 8480 | H21: 화신금속공업 | I21: 인터넷 | J21: 사무관리비
A22: 소 계 | G22: =ROUND(SUM(G4:G21),-3) -> 925000
A23: 부가세 | G23: =G22*0.1 -> 92500
A24: 합 계 | G24: =G22+G23 -> 1017500

Sheet 염리종합사회복지관
A1: 가격산출기초조사서(염리종합사회복지관)
A3: 순번 | B3: 품 명 | C3: 규 격 | D3: 단위 | E3: 수량 | F3: 단가 | G3: 금액 | H3: 제조사 | I3: 시장조사 | J3: 예산과목
A4: 1 | B4: 전동 송풍기 | C4: 42V 낙엽 무선 제설 대형 대포 송풍기 블로워 | D4: EA | E4: 1 | F4: 257500 | G4: =E4*F4 -> 257500 | H4: 나리온 | I4: 인터넷 | J4: 사무관리비
A5: 2 | B5: 전동 임팩 | C5: DCF845P2T충전 임팩드라이버 5.0Ah 2개 세트 20V | D5: EA | E5: 1 | F5: 344200 | G5: =E5*F5 -> 344200 | H5: 디올트 | I5: 인터넷 | J5: 사무관리비
A6: 3 | B6: 검전기 | C6: 3481-20 4164926 | D6: EA | E6: 2 | F6: 32400 | G6: =E6*F6 -> 64800 | H6: 히오키 | I6: 인터넷 | J6: 사무관리비
A7: 4 | B7: 드라이퍼 | C7: 220W, 6x 200mm | D7: EA | E7: 3 | F7: 10300 | G7: =E7*F7 -> 30900 | H7: 베셀 | I7: 인터넷 | J7: 사무관리비
A8: 5 | B8: 뺀지 | C8: D213-9NECR | D8: EA | E8: 1 | F8: 32700 | G8: =E8*F8 -> 32700 | H8: 크레인툴즈 | I8: 인터넷 | J8: 사무관리비
A9: 6 | B9: 멀티탭 | C9: 5구 개별 멀티탭 5M | D9: EA | E9: 5 | F9: 20100 | G9: =E9*F9 -> 100500 | H9: 현대일렉트릭 | I9: 인터넷 | J9: 사무관리비
A10: 7 | B10: 멀티탭 | C10: 4구 개별 멀티탭 5M | D10: EA | E10: 5 | F10: 18900 | G10: =E10*F10 -> 94500 | H10: 현대일렉트릭 | I10: 인터넷 | J10: 사무관리비
A11: 소 계 | G11: =ROUND(SUM(G4:G10),-3) -> 925000
A12: 부가세 | G12: =G11*0.1 -> 92500
A13: 합 계 | G13: =SUM(G11:G12) -> 1017500

Sheet 소금나루도서관
A1: 가격산출기초조사서(소금나루도서관)
A3: 순번 | B3: 품 명 | C3: 규 격 | D3: 단위 | E3: 수량 | F3: 단가 | G3: 금액 | H3: 제조사 | I3: 시장조사 | J3: 예산과목
A4: 1 | B4: 석고보드 매입박스 QB64 | C4: 박스깊이 64mm | D4: EA | E4: 5 | F4: 1340 | G4: =F4*E4 -> 6700 | H4: 케이가젯 | I4: 인터넷 | J4: 사무관리비
A5: 2 | B5: TKM-920 | C5: 아날로그 누전테스터기 | D5: EA | E5: 1 | F5: 33000 | G5: =F5*E5 -> 33000 | H5: 태광전자 | I5: 인터넷 | J5: 사무관리비
A6: 3 | B6: 석고보드 동공앙카 | C6: 11mm | D6: EA | E6: 50 | F6: 60 | G6: =F6*E6 -> 3000 | I6: 인터넷 | J6: 사무관리비
A7: 4 | B7: 석고보드 동공앙카 | C7: 18mm | D7: EA | E7: 50 | F7: 70 | G7: =F7*E7 -> 3500 | I7: 인터넷 | J7: 사무관리비
A8: 5 | B8: HIV전선 | C8: 4SQ, 100m | D8: EA | E8: 1 | F8: 62800 | G8: =F8*E8 -> 62800 | I8: 인터넷 | J8: 사무관리비
A9: 6 | B9: 터미널단자세트 | C9: 압착단자 터미널 커넥터, 480pcs | D9: EA | E9: 1 | F9: 7830 | G9: =F9*E9 -> 7830 | H9: 지제이썬 | I9: 인터넷 | J9: 사무관리비
A10: 7 | B10: 접속자세트 | C10: 250pcs | D10: EA | E10: 1 | F10: 8000 | G10: =F10*E10 -> 8000 | H10: 제이케이 | I10: 인터넷 | J10: 사무관리비
A11: 소 계 | G11: =ROUND(SUM(G4:G10),-3) -> 125000
A12: 부가세 | G12: =G11*0.1 -> 12500
A13: 합 계 | G13: =G11+G12 -> 137500

Sheet 염리생활·성미산체육관
A1: 가격산출기초조사서(염리생활·성미산체육관)
A3: 순번 | B3: 품 명 | C3: 규 격 | D3: 단위 | E3: 수량 | F3: 단가 | G3: 금액 | H3: 제조사 | I3: 시장조사 | J3: 예산과목
A4: 1 | B4: 펜치 | C4: D213-9NECR | D4: 개 | E4: 1 | F4: 32700 | G4: =E4*F4 -> 32700 | H4: 크레인툴즈 | I4: 인터넷 | J4: 사무관리비
A5: 2 | B5: 다목적가위 | C5: P-300 | D5: 개 | E5: 3 | F5: 4240 | G5: =E5*F5 -> 12720 | H5: 화신금속공업 | I5: 인터넷 | J5: 사무관리비
A6: 3 | B6: 십자드라이버 | C6: 2*200 | D6: 개 | E6: 1 | F6: 10940 | G6: =E6*F6 -> 10940 | H6: 아넥스 | I6: 인터넷 | J6: 사무관리비
A7: 4 | B7: 일자드라이버 | C7: 6*200 | D7: 개 | E7: 1 | F7: 10940 | G7: =E7*F7 -> 10940 | H7: 아넥스 | J7: 사무관리비
A8: 5 | B8: 첼라 플라이어 | C8: 250mm | D8: 개 | E8: 1 | F8: 17000 | G8: =E8*F8 -> 17000 | H8: 로브스터 | I8: 인터넷 | J8: 사무관리비
A9: 6 | B9: 롱노우즈 | C9: 150mm | D9: 개 | E9: 1 | F9: 12500 | G9: =E9*F9 -> 12500 | H9: 로브스터 | I9: 인터넷 | J9: 사무관리비
A10: 7 | B10: 줄자 | C10: GAGL25-50 | D10: 개 | E10: 1 | F10: 19000 | G10: =E10*F10 -> 19000 | H10: 타지마 | I10: 인터넷 | J10: 사무관리비
A11: 8 | B11: 커터칼 | C11: LC-650 | D11: 개 | E11: 2 | F11: 11000 | G11: =E11*F11 -> 22000 | H11: 타지마 | I11: 인터넷 | J11: 사무관리비
A12: 9 | B12: 충전콤보세트 | C12: AD414R 3G, AI414M2 3G | D12: 개 | E12: 1 | F12: 215000 | G12: =E12*F12 -> 215000 | H12: 아임삭 | I12: 인터넷 | J12: 사무관리비
A13: 10 | B13: 토션비트 | C13: 110mm | D13: 개 | E13: 1 | F13: 15500 | G13: =E13*F13 -> 15500 | H13: 밀워키 | I13: 인터넷 | J13: 사무관리비
A14: 11 | B14: 전기테이프 | C14: 흑색 | D14: 개 | E14: 30 | F14: 480 | G14: =E14*F14 -> 14400 | H14: 서통 | I14: 인터넷 | J14: 사무관리비
A15: 12 | B15: 클램프미터 | C15: 3280-10F | D15: 개 | E15: 1 | F15: 56900 | G15: =E15*F15 -> 56900 | H15: 히오키 | I15: 인터넷 | J15: 사무관리비
A16: 13 | B16: 검전기 | C16: 3480-40 | D16: 개 | E16: 1 | F16: 27000 | G16: =E16*F16 -> 27000 | H16: 히오키 | I16: 인터넷 | J16: 사무관리비
A17: 14 | B17: 절연저항계 | C17: TKM-920 | D17: 개 | E17: 1 | F17: 30780 | G17: =E17*F17 -> 30780 | H17: 태광 | I17: 인터넷 | J17: 사무관리비
A18: 15 | B18: 공구가방 | C18: DWST82929 | D18: 개 | E18: 1 | F18: 95900 | G18: =E18*F18 -> 95900 | H18: 디월트 | I18: 인터넷 | J18: 사무관리비
A19: 16 | B19: 절연장갑 | C19: 기획상품/L | D19: 개 | E19: 50 | F19: 690 | G19: =E19*F19 -> 34500 | H19: ㈜효정글러브 | I19: 인터넷 | J19: 사무관리비
... A21: 18 | B21: 경량몽키 | C21: LA32 | D21: 개 | E21: 1 | F21: 17000 | G21: =E21*F21 -> 17000 | H21: C.H.핸슨 | I21: 인터넷 | J21: 사무관리비
A22: 19 | C22: LA42 | D22: 개 | E22: 1 | F22: 22000 | G22: =E22*F22 -> 22000
A23: 20 | C23: LA52 | D23: 개 | E23: 1 | F23: 36000 | G23: =E23*F23 -> 36000
A24: 21 | B24: 경량몽키스터비 | C24: LS32 | D24: 개 | E24: 1 | F24: 17000 | G24: =E24*F24 -> 17000 | J24: 사무관리비
A25: 22 | C25: LS42 | D25: 개 | E25: 1 | F25: 22000 | G25: =E25*F25 -> 22000
A26: 23 | C26: LS52 | D26: 개 | E26: 1 | F26: 36000 | G26: =E26*F26 -> 36000
A27: 24 | B27: 파이프렌치 | C27: AL250mm(10) | D27: 개 | E27: 1 | F27: 31400 | G27: =E27*F27 -> 31400 | H27: 히트 | I27: 인터넷 | J27: 사무관리비
A28: 25 | C28: AL450mm(18) | D28: 개 | E28: 1 | F28: 51300 | G28: =E28*F28 -> 51300 | I28: 인터넷 | J28: 사무관리비
A29: 26 | B29: 육각볼렌치 | C29: TLS-9M | D29: 개 | E29: 1 | F29: 30590 | G29: =E29*F29 -> 30590 | H29: 에이트 | I29: 인터넷 | J29: 사무관리비
A30: 27 | B30: 사다리 | C30: 4단 A형 | D30: 개 | E30: 1 | F30: 74500 | G30: =E30*F30 -> 74500 | H30: 라이콤 | I30: 인터넷 | J30: 사무관리비
A31: 소 계 | G31: =ROUND(SUM(G4:G30),-3) -> 1005000
A32: 부가세 | G32: =G31*0.1 -> 100500
A33: 합 계 | G33: =G31+G32 -> 1105500

Sheet 마포구종합청사
A1: 가격산출기초조사서(마포구종합청사)
A3: 순번 | B3: 품 명 | C3: 규 격 | D3: 단위 | E3: 수량 | F3: 단가 | G3: 금액 | H3: 제조사 | I3: 시장조사 | J3: 예산과목
A4: 1 | B4: 절연장갑 | C4: 슈퍼그립 200 / L | D4: 1 | E4: 100 | F4: 1990 | G4: 199000 | H4: 3M | I4: 인터넷 | J4: 사무관리비
A5: 2 | B5: 절연테이프 | C5: 19mm X 10M | D5: 10 | E5: 20 | F5: 5200 | G5: 104000 | H5: 3M | I5: 인터넷 | J5: 사무관리비
A6: 3 | B6: 건전기 AA | C6: 벡셀AA 20알 + 20알 | D6: 40 | E6: 3 | F6: 45300 | G6: 45300 | H6: 벡셀 | I6: 인터넷 | J6: 사무관리비
A7: 4 | B7: 건전기AAA | C7: 벡셀AAA 20알 + 20알 | D7: 40 | E7: 3 | F7: 15100 | G7: 45300
A8: 5 | B8: 누전차단기 | C8: 32GRhs 20A 30ma | D8: 1 | E8: 20 | F8: 9970 | G8: 199400 | H8: LS일렉트로닉 | I8: 인터넷 | J8: 사무관리비
A9: 소 계 | G9: =ROUND(SUM(G4:G8),-3) -> 593000
A10: 부가세 | G10: =G9*0.1 -> 59300
A11: 합 계 | G11: =G9+G10 -> 652300

Sheet 홍대공공업무시설
A1: 가격산출기초조사서(홍대공공업무시설)
A3: 순번 | B3: 품 명 | C3: 규 격 | D3: 단위 | E3: 수량 | F3: 단가 | G3: 합계 | H3: 제조사 | I3: 비고 | J3: 예산과목
A4: 1 | B4: HFIX 전선 | C4: HFIX 2.5SQ 100M 갈색 | D4: 개 | E4: 1 | F4: 49900 | G4: =E4*F4 -> 49900 | H4: LS 전선 | I4: 인터넷 | J4: 사무관리비
A5: 2 | C5: HFIX 2.5SQ 100M 흑색 | D5: 개 | E5: 1 | F5: 49900 | G5: =E5*F5 -> 49900
A6: 3 | C6: HFIX 2.5SQ 100M 청색 | D6: 개 | E6: 1 | F6: 49900 | G6: =E6*F6 -> 49900
A7: 4 | C7: HFIX 2.5SQ 100M 녹색 | D7: 개 | E7: 1 | F7: 49900 | G7: =E7*F7 -> 49900
A8: 5 | B8: 건전지 | C8: AA, 40개 | D8: 박스 | E8: 4 | F8: 15100 | G8: =E8*F8 -> 60400 | H8: 벡셀 | I8: 인터넷 | J8: 사무관리비
A9: 6 | B9: 건전지 | C9: AAA, 40개 | D9: 박스 | E9: 4 | F9: 15100 | G9: =E9*F9 -> 60400
A10: 7 | B10: 펜홀 단자 | C10: 1200 PCS | D10: 박스 | E10: 1 | F10: 9020 | G10: =E10*F10 -> 9020 | H10: 신차몰 | I10: 인터넷 | J10: 사무관리비
A11: 8 | B11: 레이저레벨기 | C11: 4D | D11: 개 | E11: 1 | F11: 138000 | G11: =E11*F11 -> 138000 | H11: 나리네이션 | I11: 인터넷 | J11: 사무관리비
A12: 9 | B12: 드라이버 | C12: 5. 전공 실자 일자 드라이버 100mm | D12: 개 | E12: 4 | F12: 5200 | G12: =E12*F12 -> 20800 | H12: MITO | I12: 인터넷 | J12: 사무관리비
A13: 10 | B13: 일자전동드라이버 | C13: A1 220USB 5K | D13: 개 | E13: 2 | F13: 49800 | G13: =E13*F13 -> 99600 | H13: 베셀 | I13: 인터넷 | J13: 사무관리비
A14: 소계 | G14: =ROUND(SUM(G4:G13),-3) -> 588000
A15: 부가세 | G15: =G14*0.1 -> 58800
A16: 합계 | G16: =G14+G15 -> 646800

Sheet 마포장애인복지회관
A1: 가격산출기초조사서(마포장애인복지회관)
A3: 순번 | B3: 품 명 | C3: 규 격 | D3: 수량 | E3: 단위 | F3: 단가 | G3: 금액 | H3: 제조사 | I3: 시장조사 | J3: 예산과목
A4: 1 | B4: 클램프미터 | C4: 3280-10F | D4: 1 | E4: EA | F4: 61000 | G4: 61000 | H4: 히오키 | I4: 인터넷 | J4: 사무관리비
A5: 2 | B5: 배터리 | C5: AA(40개입) | D5: 1 | E5: BOX | F5: 15100 | G5: 15100 | H5: 벡셀 | I5: 인터넷 | J5: 사무관리비
A6: 3 | B6: 배터리 | C6: AAA(40개입) | D6: 1 | E6: BOX | F6: 15100 | G6: 15100 | H6: 벡셀 | J6: 사무관리비
A7: 4 | B7: 절연장갑 | C7: L 사이즈 | D7: 20 | E7: EA | F7: 1990 | G7: =F7*D7 -> 39800 | H7: 3M | I7: 인터넷 | J7: 사무관리비
A8: 5 | B8: 멀티탭 | C8: 4구 / 3M / 개별 | D8: 10 | E8: EA | F8: 15100 | G8: =F8*D8 -> 151000 | H8: 현대일렉트릭 | I8: 인터넷 | J8: 사무관리비
A9: 6 | B9: 작업등 | C9: LED 34구 어댑터 충전식 랜턴 | D9: 2 | E9: EA | F9: 15000 | G9: =F9*D9 -> 30000 | H9: 보성전기조명 | I9: 인터넷 | J9: 사무관리비
A10: 소 계 | G10: =ROUND(SUM(G4:G9),-3) -> 312000
A11: 부가세 | G11: =G10*0.1 -> 31200
A12: 합 계 | G12: =G10+G11 -> 343200

Sheet 농수산물시장
A1: 가격산출기초조사서(마포농수산물시장)
A3: 순번 | B3: 품 명 | C3: 규 격 | D3: 수량 | E3: 단위 | F3: 단가 | G3: 금액 | H3: 제조사 | I3: 시장조사 | J3: 예산과목
A4: 1 | B4: 납작콘센트 | C4: 납작 멜티탭 1구 2m BRN101블랙 | D4: 5 | E4: 개 | F4: 19500 | G4: =SUM(D4*F4) -> 97500 | H4: 브로낸스툴 | I4: 인터넷 | J4: 사무관리비
A5: 2 | C5: 납작 멜티탭 3구 3m 샌드베이지 | D5: 5 | E5: 개 | F5: 18700 | G5: =SUM(D5*F5) -> 93500 | H5: 굳웰라이프 | I5: 인터넷 | J5: 사무관리비
A6: 3 | B6: 매입콘센트 | C6: 아트2 펄그레이/01 접지콘센트 | D6: 5 | E6: 개 | F6: 2500 | G6: =SUM(D6*F6) -> 12500 | H6: 나노 | I6: 인터넷 | J6: 사무관리비
A7: 4 | B7: 방수 후렉시블 | C7: GW 주름관 16MM(50M) | D7: 1 | E7: 타(50M) | F7: 27000 | G7: =SUM(D7*F7) -> 27000 | H7: 경진종합전기 | I7: 인터넷 | J7: 사무관리비
A8: 5 | B8: 새들 | C8: 스텐양새들(16MM) | D8: 2 | E8: 봉(100개) | F8: 16400 | G8: =SUM(D8*F8) -> 32800 | H8: 국내산 | I8: 인터넷 | J8: 사무관리비
A9: 6 | B9: SDS MAX 포인트 치츨(노미) | C9: 50*400MM | D9: 3 | E9: 개 | F9: 5000 | G9: =SUM(D9*F9) -> 15000 | H9: 다국적 | I9: 인터넷 | J9: 사무관리비
A10: 7 | B10: SDS MAX 스페이드 치츨(다가네) | C10: 18*300MM | D10: 3 | E10: 개 | F10: 5000 | G10: =SUM(D10*F10) -> 15000 | J10: 사무관리비
A11: 8 | B11: SDS MAX 플렛(다가네) | C11: 25*300MM | D11: 3 | E11: 개 | F11: 5000 | G11: =SUM(D11*F11) -> 15000 | J11: 사무관리비
A12: 9 | B12: K2 SAFETY(방한화) | C12: K2 윈터맥스 고어텍스 방한화 | D12: 6 | E12: 개 | F12: 154000 | G12: =SUM(D12*F12) -> 924000 | H12: K2 | I12: 인터넷 | J12: 사무관리비
A13: 10 | B13: 전문가용 변기 관통기 | C13: 스프링 관통기(스프링길이86CM) | D13: 1 | E13: 개 | F13: 42960 | G13: =SUM(D13*F13) -> 42960 | H13: 국내산 | I13: 인터넷 | J13: 사무관리비
A14: 소 계 | G14: =ROUND(SUM(G4:G13),-3) -> 1275000
A15: 부가세 | G15: =G14*0.1 -> 127500
A16: 합 계 | G16: =G14+G15 -> 1402500

Sheet 창업복지관
A1: 가격산출기초조사서(마포창업복지관)
A3: 순번 | B3: 품 명 | C3: 규 격 | D3: 단위 | E3: 수량 | F3: 단가 | G3: 금액 | H3: 제조사 | I3: 비고 | J3: 예산과목
A4: 1 | B4: 정밀십자드라이버 세트 | C4: 9902 | D4: EA | E4: 1 | F4: 13900 | G4: =E4*F4 -> 13900 | H4: 베셀 | I4: 인터넷 | J4: 사무관리비
A5: 2 | B5: 니퍼 | C5: 2706 | D5: EA | E5: 2 | F5: 10900 | G5: =E5*F5 -> 21800 | H5: 로보스터 | I5: 인터넷 | J5: 사무관리비
A6: 3 | B6: 건전지 | C6: AA, 40개 | D6: 박스 | E6: 5 | F6: 15100 | G6: =E6*F6 -> 75500 | H6: 벡셀 | I6: 인터넷 | J6: 사무관리비
A7: 4 | B7: 건전지 | C7: AAA, 40개 | D7: 박스 | E7: 5 | F7: 15100 | G7: =E7*F7 -> 75500
A8: 5 | B8: 스위치 | C8: 단로1구 | D8: EA | E8: 20 | F8: 1400 | G8: =E8*F8 -> 28000 | H8: 위너스 | I8: 인터넷 | J8: 사무관리비
A9: 6 | B9: 스위치 | C9: 단로2구 | D9: EA | E9: 20 | F9: 2400 | G9: =E9*F9 -> 48000 | H9: 위너스 | I9: 인터넷 | J9: 사무관리비
A10: 7 | B10: 스위치 | C10: 2개용 중2구 | D10: EA | E10: 10 | F10: 3000 | G10: =E10*F10 -> 30000 | H10: 위너스 | I10: 인터넷 | J10: 사무관리비
A11: 8 | B11: 콘센트 | C11: 매립, 2구 | D11: EA | E11: 30 | F11: 1500 | G11: =E11*F11 -> 45000 | H11: 위너스 | I11: 인터넷 | J11: 사무관리비
A12: 9 | B12: 맹커버 | C12: 1구 | D12: EA | E12: 30 | F12: 700 | G12: =E12*F12 -> 21000 | H12: 위너스 | I12: 인터넷 | J12: 사무관리비
A13: 10 | B13: 맹커버 | C13: 2구 | D13: EA | E13: 10 | F13: 1100 | G13: =E13*F13 -> 11000 | H13: 위너스 | I13: 인터넷 | J13: 사무관리비
A14: 11 | B14: 헤이홈 스마트 조명스위치 | C14: 1구 | D14: EA | E14: 2 | F14: 54350 | G14: =E14*F14 -> 108700 | H14: 헤이홈 | I14: 인터넷 | J14: 사무관리비
A15: 12 | B15: 무선청소기 세트 | C15: GAS 18V-1 | D15: EA | E15: 1 | F15: 178000 | G15: =E15*F15 -> 178000 | H15: 보쉬 | I15: 인터넷 | J15: 사무관리비
A16: 13 | B16: 콘센트 | C16: 노출 2구 | D16: EA | E16: 10 | F16: 990 | G16: =E16*F16 -> 9900 | H16: 현대일렉트릭 | I16: 인터넷 | J16: 사무관리비
A17: 14 | B17: 콘센트 | C17: 노출 3구 | D17: EA | E17: 10 | F17: 1250 | G17: =E17*F17 -> 12500 | H17: 현대일렉트릭 | I17: 인터넷 | J17: 사무관리비
A18: 소 계 | G18: =ROUND(SUM(G4:G17),-3) -> 679000
A19: 부가세 | G19: =G18*0.1 -> 67900
A20: 합 계 | G20: =G18+G19 -> 746900

Sheet 마포주민편익시설
A1: 가격산출기초조사서(마포주민편익시설)
A3: 순번 | B3: 품 명 | C3: 규 격 | D3: 단위 | E3: 수량 | F3: 단가 | G3: 금액 | H3: 제조사 | I3: 시장조사 | J3: 예산과목
A4: 1 | B4: 무선 업소용 청소기 | C4: 20리터/무선/ 추가배터리(6000mAH)포함 | D4: EA | E4: 2 | F4: 333000 | G4: =E4*F4 -> 666000 | H4: 신일 | I4: 인터넷 | J4: 사무관리비
A5: 2 | B5: 전기 리드선 | C5: 접지 차단형/2.5SQ/3C/50M | D5: EA | E5: 1 | F5: 176120 | G5: =E5*F5 -> 176120 | H5: BESTO | I5: 인터넷 | J5: 사무관리비
A6: 3 | B6: 전기 코팅장갑 | C6: 슈퍼그립200/ 그레이/L | D6: EA | E6: 100 | F6: 1990 | G6: =E6*F6 -> 199000 | H6: 3M | I6: 인터넷 | J6: 사무관리비
A7: 4 | B7: HPT 멀티 클램프미터 테스터기 검전기 | C7: HCM-101 | D7: EA | E7: 2 | F7: 46000 | G7: =E7*F7 -> 92000 | H7: HPT | I7: 인터넷 | J7: 사무관리비
A8: 5 | B8: 전기테이프 | C8: 흑색/10개입 | D8: EA | E8: 10 | F8: 5200 | G8: =E8*F8 -> 52000 | H8: 3M | I8: 인터넷 | J8: 사무관리비
A9: 6 | B9: 스트리퍼 | C9: MWS-KRH | D9: EA | E9: 2 | F9: 35000 | G9: =E9*F9 -> 70000 | H9: 마벨 | I9: 인터넷 | J9: 사무관리비
A10: 7 | B10: 펜치 | C10: DWHT70796 | D10: EA | E10: 3 | F10: 11700 | G10: =E10*F10 -> 35100 | H10: 디월트 | I10: 인터넷 | J10: 사무관리비
A11: 소 계 | G11: =ROUND(SUM(G4:G10),-3) -> 1290000
A12: 부가세 | G12: =G11*0.1 -> 129000
A13: 합 계 | G13: =G11+G12 -> 1419000

Sheet 주차관리부
A1: 가격산출기초조사서(주차관리부)
A3: 순번 | B3: 품 명 | C3: 규 격 | D3: 단위 | E3: 수량 | F3: 단가 | G3: 금액 | H3: 제조사 | I3: 비고 | J3: 예산과목
A4: 1 | B4: HFIX 전선 | C4: HFIX 2.5SQ 100M 갈색 | D4: 개 | E4: 1 | F4: 49900 | G4: =E4*F4 -> 49900 | H4: LS 전선 | I4: 인터넷 | J4: 사무관리비
A5: 2 | C5: HFIX 2.5SQ 100M 흑색 | D5: 개 | E5: 1 | F5: 49900 | G5: =E5*F5 -> 49900
A6: 3 | C6: HFIX 2.5SQ 100M 청색 | D6: 개 | E6: 1 | F6: 49900 | G6: =E6*F6 -> 49900
A7: 4 | C7: HFIX 2.5SQ 100M 녹색 | D7: 개 | E7: 1 | F7: 49900 | G7: =E7*F7 -> 49900
A8: 5 | B8: VCTF | C8: 2.5SQ 3C 100M | D8: 개 | E8: 1 | F8: 131900 | G8: =E8*F8 -> 131900 | H8: 국내 제조사 생산품 | I8: 인터넷 | J8: 사무관리비
A9: 6 | B9: HIV전선 | C9: 4SQ, 100m | D9: EA | E9: 1 | F9: 62800 | G9: =F9*E9 -> 62800 | I9: 인터넷 | J9: 사무관리비
A10: 7 | B10: 클램프미터 | C10: 3280-10F | D10: EA | E10: 1 | F10: 61000 | G10: 61000 | H10: 히오키 | I10: 인터넷 | J10: 사무관리비
A11: 8 | B11: 줄자 | C11: KMC-31NJ | D11: 개 | E11: 1 | F11: 13530 | G11: =E11*F11 -> 13530 | H11: 코메론 | I11: 인터넷 | J11: 사무관리비
A12: 9 | B12: 리젠시리즈 대기전력 자동차단 콘센트 | C12: 3구 절전형 | D12: 개 | E12: 5 | F12: 56000 | G12: =E12*F12 -> 280000 | H12: 신동아ES | I12: 인터넷 | J12: 사무관리비
A13: 10 | B13: 주먹드라이버 | C13: QW-6460 | D13: 개 | E13: 4 | F13: 3160 | G13: =E13*F13 -> 12640 | H13: Q-WAY | I13: 인터넷 | J13: 사무관리비
A14: 11 | B14: HPT 멀티 클램프미터 테스터기 검전기 | C14: HCM-101 | D14: EA | E14: 2 | F14: 46000 | G14: =E14*F14 -> 92000 | H14: HPT | I14: 인터넷 | J14: 사무관리비
A15: 12 | B15: 전기테이프 | C15: 흑색/10개입 | D15: EA | E15: 10 | F15: 5200 | G15: =E15*F15 -> 52000 | H15: 3M | I15: 인터넷 | J15: 사무관리비
A16: 13 | B16: 콘센트 | C16: 매립, 2구 | D16: EA | E16: 30 | F16: 1500 | G16: =E16*F16 -> 45000 | H16: 위너스 | I16: 인터넷 | J16: 사무관리비
A17: 14 | B17: 검전기 | C17: 3481-20 4164926 | D17: EA | E17: 2 | F17: 32400 | G17: =E17*F17 -> 64800 | H17: 히오키 | I17: 인터넷 | J17: 사무관리비
A18: 15 | B18: K2 SAFETY(방한화) | C18: K2 윈터맥스 고어텍스 방한화 (270, 2개 / 260, 1개) | D18: 개 | E18: 3 | F18: 154000 | G18: =SUM(E18*F18) -> 462000 | H18: K2 | I18: 인터넷 | J18: 사무관리비
A19: 16 | B19: 십자드라이버 | C19: 2*200 | D19: 개 | E19: 1 | F19: 10940 | G19: =E19*F19 -> 10940 | H19: 아넥스 | I19: 인터넷 | J19: 사무관리비
A20: 17 | B20: 일자드라이버 | C20: 6*200 | D20: 개 | E20: 1 | F20: 10940 | G20: =E20*F20 -> 10940 | H20: 아넥스 | J20: 사무관리비
A21: 18 | B21: 멀티탭 | C21: 개별스위치 5구 5M | D21: 개 | E21: 11 | F21: 20100 | G21: =E21*F21 -> 221100 | H21: 현대일렉트릭 | I21: 인터넷 | J21: 사무관리비
A22: 19 | C22: 개별스위치 6구 5M | D22: 개 | E22: 8 | F22: 21900 | G22: =E22*F22 -> 175200
A23: 20 | C23: 개별스위치 5구 3M | D23: 개 | E23: 2 | F23: 16200 | G23: =E23*F23 -> 32400 | J23: 사무관리비
A24: 21 | C24: 4구 개별 멀티탭 5M | D24: EA | E24: 5 | F24: 18900 | G24: =E24*F24 -> 94500 | J24: 사무관리비
A25: 22 | C25: 4구 개별 멀티탭 3M | D25: EA | E25: 10 | F25: 15100 | G25: =F25*E25 -> 151000 | J25: 사무관리비
A26: 소 계 | G26: =ROUND(SUM(G4:G25),-3) -> 2173000
A27: 부가세 | G27: =G26*0.1 -> 217300
A28: 합 계 | G28: =G26+G27 -> 2390300
